BEGIN:VCALENDAR
VERSION:2.0
PRODID:-//wp-events-plugin.com//7.2.3.1//EN
TZID:Europe/Paris
X-WR-TIMEZONE:Europe/Paris
BEGIN:VEVENT
UID:1765@cafeculturelcitoyen.org
DTSTART;TZID=Europe/Paris:20220625T210000
DTEND;TZID=Europe/Paris:20220625T230000
DTSTAMP:20220607T145812Z
URL:https://cafeculturelcitoyen.org/evenements/scene-ouverte/
SUMMARY:Scène ouverte !
DESCRIPTION:Bientôt l'été ! Affûtez vos guitares et accordez vos violon
 s\, le Trois C vous propose une scène ouverte\, à laquelle tous et toute
 s sont convié-es qui ont envie de s'exprimer\, de se produire sur une sc
 ène\, qu'il s'agisse d'une première ou d'une vieille habitude. Amateurs 
 de jams\, prière de ne pas s'abstenir.
ATTACH;FMTTYPE=image/jpeg:https://cafeculturelcitoyen.org/wp-content/uploa
 ds/2022/06/Capture-decran-2022-06-07-165155.jpg
END:VEVENT
BEGIN:VTIMEZONE
TZID:Europe/Paris
X-LIC-LOCATION:Europe/Paris
BEGIN:DAYLIGHT
DTSTART:20220327T030000
TZOFFSETFROM:+0100
TZOFFSETTO:+0200
TZNAME:CEST
END:DAYLIGHT
END:VTIMEZONE
END:VCALENDAR