BEGIN:VCALENDAR
VERSION:2.0
PRODID:-//wp-events-plugin.com//7.2.3.1//EN
TZID:Europe/Paris
X-WR-TIMEZONE:Europe/Paris
BEGIN:VEVENT
UID:1446@cafeculturelcitoyen.org
DTSTART;TZID=Europe/Paris:20220309T200000
DTEND;TZID=Europe/Paris:20220309T220000
DTSTAMP:20220222T081006Z
URL:https://cafeculturelcitoyen.org/evenements/scene-ouverte-du-3c-places-
 limitees-sur-inscription/
SUMMARY:Scène ouverte du 3C
DESCRIPTION:On vous donne rendez-vous mercredi 09 mars pour la scène ouver
 te au 3C !\n\nVenez assister à des sets de 10 à 20 minutes par artiste d
 ans une ambiance conviviale et chaleureuse !\n\nSi vous souhaitez vous pro
 duire sur notre scène\, merci de nous contacter par mail à programmation
 le3C@gmail.com /par message privé via notre page Facebook. Ou directement
  le jour j s'il reste des places.
ATTACH;FMTTYPE=image/jpeg:https://cafeculturelcitoyen.org/wp-content/uploa
 ds/2019/08/64940862_2307299869365244_5598009954985312256_n.jpg
END:VEVENT
BEGIN:VTIMEZONE
TZID:Europe/Paris
X-LIC-LOCATION:Europe/Paris
BEGIN:STANDARD
DTSTART:20211031T020000
TZOFFSETFROM:+0200
TZOFFSETTO:+0100
TZNAME:CET
END:STANDARD
END:VTIMEZONE
END:VCALENDAR