BEGIN:VCALENDAR
VERSION:2.0
PRODID:-//wp-events-plugin.com//7.2.3.1//EN
TZID:Europe/Paris
X-WR-TIMEZONE:Europe/Paris
BEGIN:VEVENT
UID:2319@cafeculturelcitoyen.org
DTSTART;TZID=Europe/Paris:20230902T200000
DTEND;TZID=Europe/Paris:20230902T220000
DTSTAMP:20230901T081719Z
URL:https://cafeculturelcitoyen.org/evenements/scene-ouverte-du-3c-29/
SUMMARY:Scène ouverte du 3C
DESCRIPTION:On vous donne rendez-vous samedi 1er juillet  pour la scène o
 uverte au 3C !\n\nVenez assister à des sets de 10 à 20 minutes par artis
 te dans une ambiance conviviale et chaleureuse !\n\nSi vous souhaitez vous
  produire sur notre scène\, merci de nous contacter par mail à programma
 tionle3C@gmail.com ou directement le jour J s'il reste des places.
ATTACH;FMTTYPE=image/jpeg:https://cafeculturelcitoyen.org/wp-content/uploa
 ds/2019/08/64940862_2307299869365244_5598009954985312256_n.jpg
END:VEVENT
BEGIN:VTIMEZONE
TZID:Europe/Paris
X-LIC-LOCATION:Europe/Paris
BEGIN:DAYLIGHT
DTSTART:20230326T030000
TZOFFSETFROM:+0100
TZOFFSETTO:+0200
TZNAME:CEST
END:DAYLIGHT
END:VTIMEZONE
END:VCALENDAR