BEGIN:VCALENDAR
VERSION:2.0
PRODID:-//wp-events-plugin.com//7.2.3.1//EN
TZID:Europe/Paris
X-WR-TIMEZONE:Europe/Paris
BEGIN:VEVENT
UID:1695@cafeculturelcitoyen.org
DTSTART;TZID=Europe/Paris:20220407T200000
DTEND;TZID=Europe/Paris:20220407T223000
DTSTAMP:20220401T071519Z
URL:https://cafeculturelcitoyen.org/evenements/scene-ouverte-du-3c-28/
SUMMARY:Scène ouverte du 3C en soutien à la Zap de Pertuis
DESCRIPTION:On vous donne rendez-vous Jeudi 07 avril pour la scène ouverte
  au 3C !\n\nVenez assister à des sets de 10 à 20 minutes par artiste dan
 s une ambiance conviviale et chaleureuse !\n\nSi vous souhaitez vous produ
 ire sur notre scène\, merci de nous contacter par mail à cafeassociatifa
 ixois@gmail.com / par message privé via notre page Facebook. Ou directeme
 nt le jour j s'il reste des places.\n\nL'entrée est gratuite mais on fera
  passer un chapeau en soutien à nos amie.s de la Zap de Pertuis ! Ils vie
 ndront nous présenter leur projet avant la scène ouverte.\n\n\nLa ZAP de
  Pertuis\, Zone à Patates\, Zone à Protéger\, ce sont 86 ha de terres a
 gricoles\, fertiles\, irriguées\, majoritairement cultivées ou en friche
 \, riches en faune et flore\, au bord de la Durance. C'est une résistance
  qui fédère des collectifs et organisations depuis 2019\, pour s'opposer
  au projet d'artificialisation des sols et d'extension de la zone d'activi
 té de la ville.\nPour défendre la Zone A Patates\, nous faisons revivre 
 à ces terresagricoles leurs amours maraîchères (patates\, blé\, fèves
 \, verger\, cultures potagères)\, nous occupons et habitons des espaces m
 enacés\, un quartier\, un lieu de résistance\, de vie\, d'accueil\, d'or
 ganisation et de créativité anticapitaliste.\n\n
ATTACH;FMTTYPE=image/jpeg:https://cafeculturelcitoyen.org/wp-content/uploa
 ds/2022/03/Sans-titre29.jpg
END:VEVENT
BEGIN:VTIMEZONE
TZID:Europe/Paris
X-LIC-LOCATION:Europe/Paris
BEGIN:DAYLIGHT
DTSTART:20220327T030000
TZOFFSETFROM:+0100
TZOFFSETTO:+0200
TZNAME:CEST
END:DAYLIGHT
END:VTIMEZONE
END:VCALENDAR