BEGIN:VCALENDAR
VERSION:2.0
PRODID:-//wp-events-plugin.com//7.2.3.1//EN
TZID:Europe/Paris
X-WR-TIMEZONE:Europe/Paris
BEGIN:VEVENT
UID:2001@cafeculturelcitoyen.org
DTSTART;TZID=Europe/Paris:20230114T200000
DTEND;TZID=Europe/Paris:20230114T220000
DTSTAMP:20230101T093930Z
URL:https://cafeculturelcitoyen.org/evenements/samedis-du-3c-il-tempo-pass
 a-par-les-filles-dava/
SUMMARY:Samedis du 3C : "IL TEMPO PASSA" par les filles d'AVA
DESCRIPTION:Nous faisons partie de l'association AVA (Les Ateliers de la Vo
 ix d'Aix en Provence)\nNous sommes une dizaine de filles de 35 à 74 ans\,
  chanteuses amateures\, dirigées par Laure Florentin.\nNous montons cha
 que année\, un spectacle chanté (la plupart du temps en italien)\, avec 
 des chansons populaires avec cette année un spectacle chanté autour de t
 hèmes de Nino Rota\, célèbre compositeur de la musique du Parrain et de
  beaucoup de films\, notamment de Fellini.\n\nTrès beau et très original
  spectacle à ne pas manquer
ATTACH;FMTTYPE=image/jpeg:https://cafeculturelcitoyen.org/wp-content/uploa
 ds/2023/01/Capture-decran-2023-01-01-103828.png
END:VEVENT
BEGIN:VTIMEZONE
TZID:Europe/Paris
X-LIC-LOCATION:Europe/Paris
BEGIN:STANDARD
DTSTART:20221030T020000
TZOFFSETFROM:+0200
TZOFFSETTO:+0100
TZNAME:CET
END:STANDARD
END:VTIMEZONE
END:VCALENDAR