BEGIN:VCALENDAR
VERSION:2.0
PRODID:-//wp-events-plugin.com//7.2.3.1//EN
TZID:Europe/Paris
X-WR-TIMEZONE:Europe/Paris
BEGIN:VEVENT
UID:2022@cafeculturelcitoyen.org
DTSTART;TZID=Europe/Paris:20230204T203000
DTEND;TZID=Europe/Paris:20230204T220000
DTSTAMP:20230129T093736Z
URL:https://cafeculturelcitoyen.org/evenements/samedis-du-3c-chtologo/
SUMMARY:Samedis du 3C - Chtolôgo
DESCRIPTION:Le projet Chtolôgo est un OCNI (objet chantant non identifié)
 :\nFruit de la rencontre fortuite entre un accordéon chromatique\, des pe
 rcussions hétéroclites et un être humain mutant à la fois félin et hu
 main errant en quête de sens...\nUn sens à donner à sa vie\, un sens à
  donner à nos vies\, un sens à la vie...\nDes chansons qui poilent à gr
 atte sur fond de cumbia\, de reggae\, de rock\, de chanson.\nAlbum « L'en
 clume des jours » 15 titres originaux paroles et musique Chtolôgo\nDes c
 hansons à l'accordéon inspirées par cette époque épique aux relents d
 e dictature. Telle une mascarade embellie par vos regards et votre écoute
 .\nLiens :\nhttps://music.imusician.pro/a/7tOv3vwa/?\nfbclid=IwAR0wzWrMHvP
 wXnNgV9S6JgMABL5flPE6QzNCr-Mk716zNXCdjwaD_qJlpvw\nhttps://www.youtube.com/
 channel/UCdIJx0_Pv3FaCtGedA9z0zg\nhttps://www.facebook.com/chtologo
ATTACH;FMTTYPE=image/jpeg:https://cafeculturelcitoyen.org/wp-content/uploa
 ds/2023/01/Capture-decran-2023-01-29-103656.jpg
END:VEVENT
BEGIN:VTIMEZONE
TZID:Europe/Paris
X-LIC-LOCATION:Europe/Paris
BEGIN:STANDARD
DTSTART:20221030T020000
TZOFFSETFROM:+0200
TZOFFSETTO:+0100
TZNAME:CET
END:STANDARD
END:VTIMEZONE
END:VCALENDAR