BEGIN:VCALENDAR
VERSION:2.0
PRODID:-//wp-events-plugin.com//7.2.3.1//EN
TZID:Europe/Paris
X-WR-TIMEZONE:Europe/Paris
BEGIN:VEVENT
UID:2738@cafeculturelcitoyen.org
DTSTART;TZID=Europe/Paris:20240131T200000
DTEND;TZID=Europe/Paris:20240131T220000
DTSTAMP:20240129T104450Z
URL:https://cafeculturelcitoyen.org/evenements/roger-godfrey-en-concert/
SUMMARY:Roger Godfrey en concert !
DESCRIPTION:Le rocker anglais Roger Godfrey sera à l’aube de fêter ses 
 80 ans et est sur le point de sortir son premier album.\n\nParmi les compo
 sitions de toute une vie\, Roger a sélectionné 10 titres qu’il a mis e
 ntre les mains du producteur Bryan Clark (et de la crème de la crème des
  musiciens du Tenessee) au cultissime studio Black Bird à Nashville.\n\nM
 aintenant il est de retour au 3C avec 4 musiciens professionnels locaux po
 ur promouvoir les chansons de son album et offrir quelques covers de rock\
 , de blues et même quelques ballades.
ATTACH;FMTTYPE=image/jpeg:https://cafeculturelcitoyen.org/wp-content/uploa
 ds/2024/01/3C-31-jan-2024.jpg
END:VEVENT
BEGIN:VTIMEZONE
TZID:Europe/Paris
X-LIC-LOCATION:Europe/Paris
BEGIN:STANDARD
DTSTART:20231029T020000
TZOFFSETFROM:+0200
TZOFFSETTO:+0100
TZNAME:CET
END:STANDARD
END:VTIMEZONE
END:VCALENDAR