BEGIN:VCALENDAR
VERSION:2.0
PRODID:-//wp-events-plugin.com//7.2.3.1//EN
TZID:Europe/Paris
X-WR-TIMEZONE:Europe/Paris
BEGIN:VEVENT
UID:2575@cafeculturelcitoyen.org
DTSTART;TZID=Europe/Paris:20231206T190000
DTEND;TZID=Europe/Paris:20231206T220000
DTSTAMP:20231113T132145Z
URL:https://cafeculturelcitoyen.org/evenements/reunion-publique-dattac-pay
 s-stop-crimes-climatiques-pour-un-futur-desirable/
SUMMARY:Réunion publique d'Attac pays : Stop crimes climatiques ! Pour un 
 futur désirable !
DESCRIPTION:Venez rencontrer les acteurs et actrices de luttes locales avec
  des victoires et pour les défaites  on ne lâche rien!\n\nXR Aix contr
 e la destruction de 20ha de forêt à Fuveau\, Terres Vives Pertuis contre
  la bétonisation de 86ha\, Convergence Ecologique du Pays de Gardanne con
 tre la Centrale à Biomasse de Gardanne et contre Hynovera\,  sous réser
 ve CD2A contre l'extension de l'aérodrome des Milles.\n\nMais aussi des a
 cteurs et actrices pour une agriculture paysanne.\n\nVenez nombreuses et n
 ombreux\, on compte sur vous !
ATTACH;FMTTYPE=image/jpeg:https://cafeculturelcitoyen.org/wp-content/uploa
 ds/2023/11/Attac-pour-le-climat.jpg
END:VEVENT
BEGIN:VTIMEZONE
TZID:Europe/Paris
X-LIC-LOCATION:Europe/Paris
BEGIN:STANDARD
DTSTART:20231029T020000
TZOFFSETFROM:+0200
TZOFFSETTO:+0100
TZNAME:CET
END:STANDARD
END:VTIMEZONE
END:VCALENDAR