BEGIN:VCALENDAR
VERSION:2.0
PRODID:-//wp-events-plugin.com//7.2.3.1//EN
TZID:Europe/Paris
X-WR-TIMEZONE:Europe/Paris
BEGIN:VEVENT
UID:2313@cafeculturelcitoyen.org
DTSTART;TZID=Europe/Paris:20230620T193000
DTEND;TZID=Europe/Paris:20230620T220000
DTSTAMP:20230619T072623Z
URL:https://cafeculturelcitoyen.org/evenements/reunion-publique-attac-reto
 ur-sur-les-mobilisations-retraite-et-actions-a-venir/
SUMMARY:Réunion publique ATTAC - retour sur les mobilisations Retraite\, e
 t actions à venir
DESCRIPTION:\nAprès des mois d'actions retrouvons-nous pour échanger et d
 ébattre sur 4 sujets :\n\n\n\n\n\n\n- Qu'est ce que les mobilisations ret
 raites ont apporté au mouvement social ?\n\n- Accord de commerce Union Eu
 ropéenne – Mercosur : les enjeux de cet accord et pourquoi il faut se m
 obiliser contre .\n\n- Retour sur les luttes contre les projets climaticid
 es et les criminels climatiques (Mégabassines\, Total\, Lafarge...) . L'o
 ccasion d'échanger aussi sur les  projets locaux : extension de l'aérod
 rome des Milles...\n\n- L'augmentation des violences de l'extrême droite 
 et des groupuscules identitaires à Aix et ailleurs et info sur le collect
 if aixois contre les idées et violences de l'extrême droite.\n\nNous com
 ptons sur votre présence !\n\n\n\n\n 
ATTACH;FMTTYPE=image/jpeg:https://cafeculturelcitoyen.org/wp-content/uploa
 ds/2023/06/logo-attac.gif
END:VEVENT
BEGIN:VTIMEZONE
TZID:Europe/Paris
X-LIC-LOCATION:Europe/Paris
BEGIN:DAYLIGHT
DTSTART:20230326T030000
TZOFFSETFROM:+0100
TZOFFSETTO:+0200
TZNAME:CEST
END:DAYLIGHT
END:VTIMEZONE
END:VCALENDAR