BEGIN:VCALENDAR
VERSION:2.0
PRODID:-//wp-events-plugin.com//7.2.3.1//EN
TZID:Europe/Paris
X-WR-TIMEZONE:Europe/Paris
BEGIN:VEVENT
UID:1905@cafeculturelcitoyen.org
DTSTART;TZID=Europe/Paris:20221003T183000
DTEND;TZID=Europe/Paris:20221003T210000
DTSTAMP:20220929T135843Z
URL:https://cafeculturelcitoyen.org/evenements/reunion-pleniere-de-la-roue
 -pays-daix-10/
SUMMARY:Réunion plénière de la Roue Pays d'Aix
DESCRIPTION:Venez participer aux prises de décisions de la Roue du Pays d'
 Aix. La monnaie est un bien commun\, tous les utilisateurs de la Roue peuv
 ent participer aux réunions plénières mensuelles.\n\nLes bénévoles ac
 tifs sont présents à ces réunions\, mais tous les utilisateurs de la Ro
 ue sont invités à se rendre aux réunions\, se mêler aux bénévoles po
 ur donner leur avis sur les actions et le développement de la monnaie loc
 ale.\n\nL'ordre du jour sera communiqué par mail sur la liste mail des b
 énévoles. N'hésitez pas à nous contacter si vous souhaitez plus d'info
 rmations : contact@larouedupaysdaix.org\n\nSite : https://larouedupaysdaix
 .org/\n\nFacebook : https://www.facebook.com/larouedupaysdaix/\n\nInstagra
 m : https://www.instagram.com/la_roue_du_pays_d_aix/
ATTACH;FMTTYPE=image/jpeg:https://cafeculturelcitoyen.org/wp-content/uploa
 ds/2019/09/logo_la_roue-1-300x225.jpg
END:VEVENT
BEGIN:VTIMEZONE
TZID:Europe/Paris
X-LIC-LOCATION:Europe/Paris
BEGIN:DAYLIGHT
DTSTART:20220327T030000
TZOFFSETFROM:+0100
TZOFFSETTO:+0200
TZNAME:CEST
END:DAYLIGHT
END:VTIMEZONE
END:VCALENDAR