BEGIN:VCALENDAR
VERSION:2.0
PRODID:-//wp-events-plugin.com//7.2.3.1//EN
TZID:Europe/Paris
X-WR-TIMEZONE:Europe/Paris
BEGIN:VEVENT
UID:2278@cafeculturelcitoyen.org
DTSTART;TZID=Europe/Paris:20230507T150000
DTEND;TZID=Europe/Paris:20230507T170000
DTSTAMP:20230428T155440Z
URL:https://cafeculturelcitoyen.org/evenements/reunion-ouverte-du-3c-32/
SUMMARY:Réunion ouverte du 3C
DESCRIPTION:Venez nombreuses et nombreux pour parler\, ce dimanche\, de l'a
 venir du café !\n\nTous les mois les adhérents du café se retrouvent po
 ur discuter de l'avenir du 3C.\nUn ordre du jour est établi et tous les p
 oints formulés au préalable sont discutés par les participants. De nomb
 reuses décisions essentielles au bon fonctionnement du café sont prises 
 lors de ces réunions. Tous les adhérents qui souhaitent s'impliquer dans
  la vie de l'association sont les bienvenu-e-s. Si tu souhaites inscrire u
 n point au prochain ordre du jour tu peux écrire un email à cafeassociat
 ifaixois@gmail.com\n\nUn repas précède la réunion\, c'est l'occasion de
  se rencontrer ou de se retrouver dans une ambiance conviviale. Chacun ram
 ène quelque-chose et tout le monde partage ce qu'il y a. Le repas a lieu 
 généralement vers 13h.
ATTACH;FMTTYPE=image/jpeg:https://cafeculturelcitoyen.org/wp-content/uploa
 ds/2020/06/3CEte-Ban.jpg
END:VEVENT
BEGIN:VTIMEZONE
TZID:Europe/Paris
X-LIC-LOCATION:Europe/Paris
BEGIN:DAYLIGHT
DTSTART:20230326T030000
TZOFFSETFROM:+0100
TZOFFSETTO:+0200
TZNAME:CEST
END:DAYLIGHT
END:VTIMEZONE
END:VCALENDAR