BEGIN:VCALENDAR
VERSION:2.0
PRODID:-//wp-events-plugin.com//7.2.3.1//EN
TZID:Europe/Paris
X-WR-TIMEZONE:Europe/Paris
BEGIN:VEVENT
UID:2346@cafeculturelcitoyen.org
DTSTART;TZID=Europe/Paris:20230920T183000
DTEND;TZID=Europe/Paris:20230920T220000
DTSTAMP:20230817T152758Z
URL:https://cafeculturelcitoyen.org/evenements/reunion-extinction-rebellio
 n-3/
SUMMARY:Réunion - Extinction Rébellion
DESCRIPTION:Rencontrons-nous ou retrouvons-nous autour des problématiques 
 écologistes avec XR- Pays d'Aix
ATTACH;FMTTYPE=image/jpeg:https://cafeculturelcitoyen.org/wp-content/uploa
 ds/2022/10/274779887_10227637092143126_2307693130083309713_n.jpg
END:VEVENT
BEGIN:VTIMEZONE
TZID:Europe/Paris
X-LIC-LOCATION:Europe/Paris
BEGIN:DAYLIGHT
DTSTART:20230326T030000
TZOFFSETFROM:+0100
TZOFFSETTO:+0200
TZNAME:CEST
END:DAYLIGHT
END:VTIMEZONE
END:VCALENDAR