BEGIN:VCALENDAR
VERSION:2.0
PRODID:-//wp-events-plugin.com//7.2.3.1//EN
TZID:Europe/Paris
X-WR-TIMEZONE:Europe/Paris
BEGIN:VEVENT
UID:1969@cafeculturelcitoyen.org
DTSTART;TZID=Europe/Paris:20221214T203000
DTEND;TZID=Europe/Paris:20221214T213000
DTSTAMP:20221130T102650Z
URL:https://cafeculturelcitoyen.org/evenements/reunion-extinction-rebellio
 n-2/
SUMMARY:Réunion Extinction-Rébellion
DESCRIPTION:Vous avez des questions sur l'écologie et les luttes pour le c
 limat\, envie de vous engager... ? C'est le moment de venir rencontrer la 
 section XR du pays d'Aix !\n\nà très bientôt !
ATTACH;FMTTYPE=image/jpeg:https://cafeculturelcitoyen.org/wp-content/uploa
 ds/2022/10/274779887_10227637092143126_2307693130083309713_n.jpg
END:VEVENT
BEGIN:VTIMEZONE
TZID:Europe/Paris
X-LIC-LOCATION:Europe/Paris
BEGIN:STANDARD
DTSTART:20221030T020000
TZOFFSETFROM:+0200
TZOFFSETTO:+0100
TZNAME:CET
END:STANDARD
END:VTIMEZONE
END:VCALENDAR