BEGIN:VCALENDAR
VERSION:2.0
PRODID:-//wp-events-plugin.com//7.2.3.1//EN
TZID:Europe/Paris
X-WR-TIMEZONE:Europe/Paris
BEGIN:VEVENT
UID:2186@cafeculturelcitoyen.org
DTSTART;TZID=Europe/Paris:20230327T190000
DTEND;TZID=Europe/Paris:20230327T210000
DTSTAMP:20230321T131920Z
URL:https://cafeculturelcitoyen.org/evenements/reunion-du-coll-e-c-2/
SUMMARY:Réunion du COLL-E-C
DESCRIPTION:Le COllectif d'Echange Citoyen du pays d'Aix se réunit pour un
 e AG mensuelle tous les mois au 3C.\n\nLe Coll-E-C\, c’est :\n\nune exp
 érience concrète et pragmatique de convergence des luttes. Nous avons ch
 oisi de rassembler les forces jusqu’ici trop souvent disséminées et de
  construire un espace d’échanges citoyens\, de le faire vivre collectiv
 ement au sein d’une association au fonctionnement le plus horizontal pos
 sible.\n\nNous avons constaté\, comme vous :\n\nla dégradation de nos co
 nditions de vie\, le mépris des gouvernants\, la disparition des solidari
 tés\, la destruction du service public\, la fragilisation de toutes et to
 us\, une répression acharnée…\n\nDepuis la révolte des banlieues en 2
 005\, jusqu’à la crise économique et sanitaire de 2020\, il n’est qu
 estion que de crises.      \n\nDepuis 3 ans\n\ndes organisations du P
 ays d’Aix ont unies leurs forces pour constituer le COLL-E-C et ont déj
 à fait bénéficier les habitant·e·s de notre territoire d’actions d
 ’éducation populaire\, de pratiques de solidarité\, d’actions direct
 es contre la montée de l’extrême droite\, de soutien aux initiatives d
 ’émancipation et d’autonomie : la ZAP de Pertuis en est une illustra
 tion exemplaire.\n\n&nbsp\;\n\nDes principes de fonctionnement forts :\n\
 n 	Autonomie et décentralisation\n\nLa liberté des uns\, commence avec l
 a liberté des autres. Le COLL-E-C n’est attaché à aucun parti\, mais 
 s’ouvre à l’ensemble des militantes et militants d’en bas\, à gauc
 he…\n\n 	Démocratie directe et horizontalité\n\nPromouvoir les valeurs
  que nous voulons voir fleurir dans la société\, c’est déjà les mett
 re en pratique entre nous : éliminer les rapports de pouvoir fondés sur
  l’expertise\, le niveau d’étude\, ou encore le genre.\n\n 	Solidarit
 é et égalité\n\nEntraide entre les individu·e·s\, et entre les organi
 sations membres du collectif. Égalité des voix\, égalité des genres\, 
 égalité actifs-chômeurs-précaires\, égalité nationaux-étrangers-ét
 rangères-réfugié·e·s\, légaux ou sans-papiers… Prise de décisions
 \, prise de parole\, notre manière de travailler ensemble reflète ce sou
 ci constant d’inclusion\, de respect et de camaraderie.\n\nAgir localeme
 nt !\nNous développons trois types d’activités :\n\n1/ Agir et occupe
 r l’espace public\nManifestations\, actions de résistance ou de désob
 éissance civile contre des lois\, règlements et pratiques iniques\, acti
 ons symboliques…\n\n2/ Réfléchir\, échanger\, nous éduquer nous-mêm
 es\nDébats\, projections\, conférences\, réunions publiques\, ateliers 
 de réflexion sur le monde que nous voulons (écologie politique\, fémini
 sme\, exil et exilé-es\, utopie et alternatives\, paysannat et autonomie 
 alimentaire\, émancipation et organisation…\n\n3/ [En projet] – Faire
  vivre un lieu autonome et original\nPromotion d’alternatives et soutien
  à la paysannerie en mettant en avant la résilience et l’autonomie ali
 mentaire des communes du Pays d’Aix.\n\nNous rejoindre :\n\nSi vous aus
 si vous avez envie de collectif\, de vous engager dans une démarche de d
 émocratie directe\, constructive et revendicative assumée\, envie d’au
 tonomie et de solidarité\, alors n’hésitez pas à adhérer à l’asso
 ciation et à nous contacter.\n\nNous contacter :\n\n 	Courriel : collec
 pa@riseup.net\n 	Salon de discussion public sur Matrix Element: https://ma
 trix.to/#/%23collecpa:matrix.org\n\nNous suivre :\n\n 	Campagne d’adhé
 sion 2022-2023\, en ligne et sécurisée : https://frama.link/adhesion-20
 21-collec\n 	Pour vous inscrire sur notre liste de diffusion : https://fr
 amalistes.org/sympa/subscribe/infos-collecpa\n 	Notre groupe sur Mobilizon
  : https://mobilizon.fr/@collecpa\n 	Notre chaîne PeerTube : https://vi
 deo.antopie.org/video-channels/collec/videos\n 	Notre groupe facebook : C
 OLL•E•C\n\nUne participation aux frais libre et consciente est attendu
 e des participant-es\, sous une forme individuelle ou collective\n\n&nbsp\
 ;
ATTACH;FMTTYPE=image/jpeg:https://cafeculturelcitoyen.org/wp-content/uploa
 ds/2022/10/COLLEC.jpg
END:VEVENT
BEGIN:VTIMEZONE
TZID:Europe/Paris
X-LIC-LOCATION:Europe/Paris
BEGIN:DAYLIGHT
DTSTART:20230326T030000
TZOFFSETFROM:+0100
TZOFFSETTO:+0200
TZNAME:CEST
END:DAYLIGHT
END:VTIMEZONE
END:VCALENDAR