BEGIN:VCALENDAR
VERSION:2.0
PRODID:-//wp-events-plugin.com//7.2.3.1//EN
TZID:Europe/Paris
X-WR-TIMEZONE:Europe/Paris
BEGIN:VEVENT
UID:1966@cafeculturelcitoyen.org
DTSTART;TZID=Europe/Paris:20221207T173000
DTEND;TZID=Europe/Paris:20221207T190000
DTSTAMP:20221130T084724Z
URL:https://cafeculturelcitoyen.org/evenements/reunion-dinformation-de-las
 sociation-jaccueille/
SUMMARY:Réunion d'information de l'association "J'accueille"
DESCRIPTION:ENFIN ! \n\nAprès 7 ans d'existence et 1000 personnes réfug
 iées accueillies dans 10 villes\, et quelques mois après notre lancement
  à Marseille en mai dernier\, notre dispositif d'accueil de personnes ré
 fugiées chez les particuliers arrive à Aix-en-Provence !\n\nJ'accueille 
 est un dispositif d'accueil citoyen des personnes réfugiées au sein de f
 oyers français\, à Marseille et dans la région des Bouches-du-Rhône. G
 râce à ces cohabitations interculturelles et via une immersion complète
 \, les personnes réfugiées\, libérées du poids d'une instabilité de l
 ogement\, peuvent se consacrer à leurs projets et mieux comprendre les co
 des socio-culturels français afin de faciliter leur insertion dans la soc
 iété d'accueil.\nNous avons plusieurs cohabitations lancées à Marseill
 e et nous sommes actuellement en train de travailler à l'ouverture de not
 re programme à Aix-en-Provence\, et avons d'ores et déjà plusieurs pers
 onnes inscrites pour accueillir des personnes réfugiées dans la ville\n\
 nUne nouvelle que nous sommes fiers de vous annoncer\, car vous êtes nomb
 reuses et nombreux\, au cours des dernières années\, à nous avoir témo
 igné votre soutien et à avoir proposé d'accueillir quelques mois une p
 ersonne réfugiée\, le temps qu'elle gagne en autonomie\, à Aix-en-Prove
 nce et ses alentours.\n\nAu vu de la précarité dans laquelle se trouvent
  des milliers de personnes réfugiées\, il nous tenait à cœur d'arriver
  !\n
ATTACH;FMTTYPE=image/jpeg:https://cafeculturelcitoyen.org/wp-content/uploa
 ds/2022/11/Capture-decran-2022-11-30-094612.png
END:VEVENT
BEGIN:VTIMEZONE
TZID:Europe/Paris
X-LIC-LOCATION:Europe/Paris
BEGIN:STANDARD
DTSTART:20221030T020000
TZOFFSETFROM:+0200
TZOFFSETTO:+0100
TZNAME:CET
END:STANDARD
END:VTIMEZONE
END:VCALENDAR