BEGIN:VCALENDAR
VERSION:2.0
PRODID:-//wp-events-plugin.com//7.2.3.1//EN
TZID:Europe/Paris
X-WR-TIMEZONE:Europe/Paris
BEGIN:VEVENT
UID:2006@cafeculturelcitoyen.org
DTSTART;TZID=Europe/Paris:20230125T190000
DTEND;TZID=Europe/Paris:20230125T210000
DTSTAMP:20230105T150613Z
URL:https://cafeculturelcitoyen.org/evenements/reunion-afev-association-de
 -la-fondation-etudiante-pour-la-ville/
SUMMARY:Soirée AFEV (Association de la Fondation Étudiante pour la Ville)
DESCRIPTION:\nCette soirée est l'occasion de passer un moment convivial en
 semble\, de rencontrer d’autres bénévoles et l’équipe AFEV. Les ani
 mations commencent à 19h\, au programme : jeux\, quizz\, blind test\, én
 igmes…\nL’Afev crée depuis 30 ans du lien entre campus et quartiers e
 n développant des programmes de solidarité dans lesquels des étudiant·
 es s’engagent auprès des enfants\, des jeunes et des habitant·es des q
 uartiers populaires.\nA Aix-en-Provence\, 300 étudiants s’engagent chaq
 ue année pour devenir mentor de jeunes\, cette soirée est l’occasion d
 e valoriser leur engagement.\nPour plus d’informations\nPour devenir bé
 névole (étudiant)\n\n
ATTACH;FMTTYPE=image/jpeg:https://cafeculturelcitoyen.org/wp-content/uploa
 ds/2023/01/10081279_benevolat-je-d_logo.jpeg
END:VEVENT
BEGIN:VTIMEZONE
TZID:Europe/Paris
X-LIC-LOCATION:Europe/Paris
BEGIN:STANDARD
DTSTART:20221030T020000
TZOFFSETFROM:+0200
TZOFFSETTO:+0100
TZNAME:CET
END:STANDARD
END:VTIMEZONE
END:VCALENDAR