BEGIN:VCALENDAR
VERSION:2.0
PRODID:-//wp-events-plugin.com//7.2.3.1//EN
TZID:Europe/Paris
X-WR-TIMEZONE:Europe/Paris
BEGIN:VEVENT
UID:1748@cafeculturelcitoyen.org
DTSTART;TZID=Europe/Paris:20220609T183000
DTEND;TZID=Europe/Paris:20220609T223000
DTSTAMP:20220530T091528Z
URL:https://cafeculturelcitoyen.org/evenements/rencontre-concert-cafe-migr
 ants/
SUMMARY:Rencontre-Concert : Café Migrants
DESCRIPTION:\n\n\nCAFE-MIGRANT du 9 JUIN 2022 au CAFE 3C.\n\n\nPour cette n
 ouvelle rencontre du café migrants nous proposons deux parties. Une premi
 ère avec le vernissage de l'artiste Anne Charmasson et ses photos d'exil
 és\, puis une deuxième partie accueillant les artistes ci-dessous.\n\nD
 éroulement de la soirée :\n18h30 : présentation du collectif Agir par B
 éatrice\nPrésentation de l'exposition par Anne Charmasson\nMoment lectur
 e Les Compagnons d'Exil \nPRÉSENTATION PAR SON AUTEUR DE L’OUVRAGE  
 LA CONDITION DE l’EXILE\, Penser les migrations contemporaines d’Alexi
 s Nuselovici\nMusiques en partage : DUO SAMAA\, DUO YARAN\, CRISTIANO NA
 SCIMENTO et l'atelier de Choro du Brésil\, HAROLD MATOS\n&nbsp\;\n\nMUS
 IQUES EN PARTAGE \n\nLa deuxième partie du Café-Migrant réunit plusieu
 rs groupes de musiques du monde associant des musiciens venus d'autres riv
 es du monde à des musiciens français. Accueillir la migration\, ce n'est
  pas accueillir " la misère du monde"\, mais au contraire toutes ses rich
 esses humaines et culturelles\, parmi lesquelles la musique joue un rôle 
 essentiel de rencontre et de partage.\n\nDUO SAMAA . Rencontre autour des 
 musiques orientales de l'Iran à la Tunisie.\n\nAvec Hédia Chaffaï\, kan
 un et chant\, et Christian Fromentin\, violon\, guitare et chant.\n\nRenco
 ntre entre une musicienne tunisienne dont le répertoire s'étend du Maghr
 eb au Proche-Orient et un violoniste français\, vrai musicien du monde\, 
 qui voyage entre musiques traditionnelles françaises\, irlandaises\, orie
 ntales et indiennes.\n\nCRISTIANO NASCIMENTO et l'atelier de Choro du Bré
 sil.\n\nDu Chopin syncopé façon samba\, ainsi peut-on décrire le Choro\
 , cette musique traditionnelle du Brésil\, à la fois savante et populair
 e. Choros d'hier\, Choros d'aujourd'hui\, l'ensemble amateur de Choro de l
 a Roda vous fera découvrir et savourer ce trésor tropical.\n\nOriginaire
  de Rio de Janeiro\, le guitariste et compositeur Cristiano Nascimento est
  venu en Provence fonder une famille franco-brésilienne et l'association 
 La Roda\, pour transmettre avec Claire Luzi l'art convivial des musiques p
 opulaires du Brésil\, grand pays de migrations et métissages humains et 
 culturels.\n\n&nbsp\;\n\n\n
ATTACH;FMTTYPE=image/jpeg:https://cafeculturelcitoyen.org/wp-content/uploa
 ds/2022/05/Capture-decran-2022-05-25-142121.jpg
END:VEVENT
BEGIN:VTIMEZONE
TZID:Europe/Paris
X-LIC-LOCATION:Europe/Paris
BEGIN:DAYLIGHT
DTSTART:20220327T030000
TZOFFSETFROM:+0100
TZOFFSETTO:+0200
TZNAME:CEST
END:DAYLIGHT
END:VTIMEZONE
END:VCALENDAR