BEGIN:VCALENDAR
VERSION:2.0
PRODID:-//wp-events-plugin.com//7.2.3.1//EN
TZID:Europe/Paris
X-WR-TIMEZONE:Europe/Paris
BEGIN:VEVENT
UID:2256@cafeculturelcitoyen.org
DTSTART;TZID=Europe/Paris:20230426T183000
DTEND;TZID=Europe/Paris:20230426T193000
DTSTAMP:20230417T083410Z
URL:https://cafeculturelcitoyen.org/evenements/quiz-et-jeux-organises/
SUMMARY:Quiz et jeux organisés
DESCRIPTION:Tous et toutes sont invitées à participer à cette première 
 partie de soirée Quiz et jeux  (Blind test et autres)
ATTACH;FMTTYPE=image/jpeg:https://cafeculturelcitoyen.org/wp-content/uploa
 ds/2023/04/Capture-decran-2023-04-17-103305.jpg
END:VEVENT
BEGIN:VTIMEZONE
TZID:Europe/Paris
X-LIC-LOCATION:Europe/Paris
BEGIN:DAYLIGHT
DTSTART:20230326T030000
TZOFFSETFROM:+0100
TZOFFSETTO:+0200
TZNAME:CEST
END:DAYLIGHT
END:VTIMEZONE
END:VCALENDAR