BEGIN:VCALENDAR
VERSION:2.0
PRODID:-//wp-events-plugin.com//7.2.3.1//EN
TZID:Europe/Paris
X-WR-TIMEZONE:Europe/Paris
BEGIN:VEVENT
UID:2322@cafeculturelcitoyen.org
DTSTART;TZID=Europe/Paris:20230712T193000
DTEND;TZID=Europe/Paris:20230712T220000
DTSTAMP:20230630T141143Z
URL:https://cafeculturelcitoyen.org/evenements/qui-est-poutine-projection-
 de-court-metrage/
SUMMARY:Qui est Poutine ? Projection de court métrage
DESCRIPTION:Tandis que la Guerre en Ukraine connaît de récents et curieux
  rebondissements\, ce court-métrage permettra peut-être de mettre les ch
 oses en perspective.\n\nDans le train d'évacuation Sloviansk-Uzhorod\, de
 s femmes\, des enfants\, des animaux\, et même d'anciens admirateurs du p
 ouvoir russe. Certains ont fui sans même pouvoir prendre une valise. Tous
  savent qui est Poutine.\n\nL'intimité des petites cabines de train\, le 
 thé et les goûters\, les animaux et les enfants\, les voisins bavards 
 – ce microcosme charismatique est familier à toute personne qui a déj
 à parcouru les vastes paysages postsoviétiques avec un train longue dist
 ance. C'est un cadre fertile pour un portrait collectif – dans ce cour
 t métrage réalisé en avril 2022 au début de l'invasion russe à grande
  échelle de l'Ukraine\, il s'agit d'un portrait des réfugiés fuyant la 
 guerre dans l'est de l'Ukraine\, dans la région de Donetsk.\n\nPour imagi
 ner quelle est la foi sombre que ces gens fuient\, il suffit de se rappele
 r les images des horreurs de l'occupation russe qui surgiront cinq mois pl
 us tard d'Izium libéré\, à seulement 50 km de Sloviansk\, le point de 
 départ du train. Хто такий путін? offre un portrait subtil\,
  doux\, sensible et nuancé des passagers du train qui livrent leurs témo
 ignages et leurs points de vue sur le début de la guerre en langues ukrai
 nienne et russe\, un détail important qui pourrait échapper à un specta
 teur étranger.\n\nOriginaires de la région de l'Est de l'Ukraine frontal
 ière avec la Russie\, ces réfugiés\, dont beaucoup sont eux-mêmes russ
 ophones\, témoignent de la rupture et du schisme jusqu'alors inimaginable
 s que la guerre a provoqués entre les deux voisins. Le film fournit ainsi
  un contexte important pour la guerre et ses origines avec les séparatist
 es soutenus par la Russie en Ukraine orientale depuis 2014. Хто так
 ий путін? expose également le degré de répulsion et de dégoût 
 ressenti par les russophones après une invasion à grande échelle lancé
 e par Poutine\, contrairement au mythe du « monde russe » solidaire qu
 e la propagande du Kremlin prétend défendre.\n\nSoirée débat
ATTACH;FMTTYPE=image/jpeg:https://cafeculturelcitoyen.org/wp-content/uploa
 ds/2023/06/Capture-decran-2023-06-29-225544.jpg
END:VEVENT
BEGIN:VTIMEZONE
TZID:Europe/Paris
X-LIC-LOCATION:Europe/Paris
BEGIN:DAYLIGHT
DTSTART:20230326T030000
TZOFFSETFROM:+0100
TZOFFSETTO:+0200
TZNAME:CEST
END:DAYLIGHT
END:VTIMEZONE
END:VCALENDAR