BEGIN:VCALENDAR
VERSION:2.0
PRODID:-//wp-events-plugin.com//7.2.3.1//EN
TZID:Europe/Paris
X-WR-TIMEZONE:Europe/Paris
BEGIN:VEVENT
UID:2386@cafeculturelcitoyen.org
DTSTART;TZID=Europe/Paris:20231108T190000
DTEND;TZID=Europe/Paris:20231108T200000
DTSTAMP:20231031T122048Z
URL:https://cafeculturelcitoyen.org/evenements/quelques-contes-de-parlaba/
SUMMARY:Quelques contes de Parlaba
DESCRIPTION:Allez au théâtre. Faites tomber le 4e mur\, le fameux\, celui
  qui vous regarde.\nLe comédien alors vous regarde dans les yeux. Il va v
 ous raconter une histoire.\nVous dire comment ce tailleur de pierre\, pour
 quoi ce pêcheur japonais.\nIl vous dira qu’il était une fois\, et que 
 dans un pays éloigné\, il vous dira\nce qu’il est advenu de cet ami fi
 dèle et néanmoins cheval\, il vous dira vers où cette petite chèvre\, 
 et depuis quelle altitude ce corbeau qui a volé la lumière.\nEt promis\,
  lorsqu’il vous contera tout ça\, il finira ses phrases.\nQue faire de 
 l’absence d’un mur ?\n\nUn conte.\n\nCertains contes peuvent faire u
 n p’tit peu peur a de trop jeunes enfants (genre y’a des gens et d’a
 utres types d’animaux qui meurent brutalement\, et rarement de vieilless
 e).\n\nAge minimum conseillé : 8-9 ans\n\nPrésentation de Fabien par Fab
 ien\n\nFabien est passé par là au détour d’une naissance\, et faute d
 e projet plus abouti\, a plus ou moins décidé de rester. On prétend par
 fois qu’il y est encore\, d’autres fois aussi\, et d’autres fois on 
 en sait rien\, mais c’est simplement parce qu’il a changé de pièce. 
 Fabien a fait ceci et cela\, parfois plein d’autres choses du même acab
 it et d’autres fois plus simplement rien\, mais toujours avec applicatio
 n. C’est cette même application qui l’a conduit parmi vous ce soir\, 
 à moins que ce ne soit un véhicule quelconque\, ou même un véhicule pa
 rticulier\, ou encore un véhicule quelconque conduit avec une application
  particulière\, car on ne sait jamais vraiment\, avec ces choses là\, vr
 aiment on ne sait pas. Bref\, je ne vous retiens pas plus\, ça va comme
 ncer.\n\nhttps://www.fabienbosio.com/
ATTACH;FMTTYPE=image/jpeg:https://cafeculturelcitoyen.org/wp-content/uploa
 ds/2023/10/WhatsApp-Image-2023-09-30-a-09.20.48_c4a2e2ca.jpg
END:VEVENT
BEGIN:VTIMEZONE
TZID:Europe/Paris
X-LIC-LOCATION:Europe/Paris
BEGIN:STANDARD
DTSTART:20231029T020000
TZOFFSETFROM:+0200
TZOFFSETTO:+0100
TZNAME:CET
END:STANDARD
END:VTIMEZONE
END:VCALENDAR