BEGIN:VCALENDAR
VERSION:2.0
PRODID:-//wp-events-plugin.com//7.2.3.1//EN
TZID:Europe/Paris
X-WR-TIMEZONE:Europe/Paris
BEGIN:VEVENT
UID:2439@cafeculturelcitoyen.org
DTSTART;TZID=Europe/Paris:20231116T190000
DTEND;TZID=Europe/Paris:20231116T220000
DTSTAMP:20231016T103254Z
URL:https://cafeculturelcitoyen.org/evenements/projection-lafrique-les-ogm
 -et-bill-gates-artisans-du-monde/
SUMMARY:Projection "L'Afrique\, les OGM et Bill Gates"
DESCRIPTION:\nArtisans du Monde Aix-en-Provence vous propose une projection
 -débat autour du film « L'Afrique\, les OGM et Bill Gates » de Jean-B
 aptiste Renaud et Lila Berdugo.\n\n\n\n\n\nCe film montre pourquoi et comm
 ent la Fondation Bill et Melinda Gates est devenue l’acteur principal de
 s expérimentations de génie génétique conduites en Afrique\, avec la c
 omplicité des pays riches\, y compris l’Union européenne.\n\n\n\n\n\n
 Le débat qui suivra le film\, en plus d’apporter des précisions sur le
  financement de la Fondation Gates et ses activités en Afrique\, portera 
 également sur la question plus large de l’emprise croissante des intér
 êts privés sur le système alimentaire mondial et sa gouvernance.\n\n\n
 \n\n\nAvec la participation de Materne Maetz\, fondateur du site lafaimex
 pliquee.org et co-auteur du dernier rapport de la FAO sur l’« Avenir
  de l’agriculture et de l’alimentation » (2022).\n
ATTACH;FMTTYPE=image/jpeg:https://cafeculturelcitoyen.org/wp-content/uploa
 ds/2023/10/GatesRoi.jpg
END:VEVENT
BEGIN:VTIMEZONE
TZID:Europe/Paris
X-LIC-LOCATION:Europe/Paris
BEGIN:STANDARD
DTSTART:20231029T020000
TZOFFSETFROM:+0200
TZOFFSETTO:+0100
TZNAME:CET
END:STANDARD
END:VTIMEZONE
END:VCALENDAR