BEGIN:VCALENDAR
VERSION:2.0
PRODID:-//wp-events-plugin.com//7.2.3.1//EN
TZID:Europe/Paris
X-WR-TIMEZONE:Europe/Paris
BEGIN:VEVENT
UID:1849@cafeculturelcitoyen.org
DTSTART;TZID=Europe/Paris:20220930T000000
DTEND;TZID=Europe/Paris:20220930T220000
DTSTAMP:20220929T085647Z
URL:https://cafeculturelcitoyen.org/evenements/projection-la-gnak-un-film-
 de-chloe-mazoyer/
SUMMARY:Projection - La Gnak\, un film de Chloé Mazoyer
DESCRIPTION:Une terre d’agriculture et d’élevage\, des vallons à pert
 e de vue et les Pyrénées pour\nhorizon. Le Gers.\nLa famille de Lucie ha
 bite ce territoire depuis trois générations. Doria\, Cham\, Théo et\nGu
 illaume\, quant à eux\, vivent à Paris où ils évoluent dans le monde d
 u cirque comme\ntechniciens\, pédagogues et artistes.\nDe leur rencontre 
 à tous les cinq\, naît l’idée d’un lieu de vie et de création comm
 un. Ils se\nrassemblent alors sur le terrain de Lucie afin d'allier leur v
 olonté d'une vie plus proche de la nature à leurs envies artistiques.\nA
 u gré des saisons\, la Gnak est le récit de cette aventure collective\, 
 centrée sur leur\nrecherche d’autonomie\, de liberté et de cirque !\n\
 n&nbsp\;\n\nhttps://www.youtube.com/watch?v=kKe0DteiyQk&amp\;ab_channel=ch
 loemazoyer
ATTACH;FMTTYPE=image/jpeg:https://cafeculturelcitoyen.org/wp-content/uploa
 ds/2022/09/Capture-decran-2022-09-22-121303.jpg
END:VEVENT
BEGIN:VTIMEZONE
TZID:Europe/Paris
X-LIC-LOCATION:Europe/Paris
BEGIN:DAYLIGHT
DTSTART:20220327T030000
TZOFFSETFROM:+0100
TZOFFSETTO:+0200
TZNAME:CEST
END:DAYLIGHT
END:VTIMEZONE
END:VCALENDAR