BEGIN:VCALENDAR
VERSION:2.0
PRODID:-//wp-events-plugin.com//7.2.3.1//EN
TZID:Europe/Paris
X-WR-TIMEZONE:Europe/Paris
BEGIN:VEVENT
UID:2570@cafeculturelcitoyen.org
DTSTART;TZID=Europe/Paris:20231117T183000
DTEND;TZID=Europe/Paris:20231117T200000
DTSTAMP:20231110T130622Z
URL:https://cafeculturelcitoyen.org/evenements/projection-du-film-les-voie
 s-jaunes/
SUMMARY:Projection du film Les Voies Jaunes
DESCRIPTION:Voici quelques mots sur le film... La réalisatrice\, plusieurs
  mois après le début du mouvement des Gilets jaunes fin 2018\, a travers
 é la France sur une diagonale qui va du Havre à Marseille pour enregistr
 er des voix jusqu'alors inaudibles. Des voix de personnes qui avaient déc
 idé de marquer une rupture dans leur quotidien et de porter un gilet jaun
 e.\n\nAvec beaucoup de sensibilité et de justesse\, Sylvestre Meinzer a r
 éussi à tisser un fil entre toutes ces personnes\, qui raconte à la foi
 s le commun d'une vie de plus en plus difficile\, la dignité de se releve
 r et la diversité de ce mouvement.\n\nCe film se distingue des précéden
 ts sur les Gilets jaunes\, à travers les choix formelles de la réalisatr
 ice qui permettent de laisser une plus grande place à ces témoignages et
  aux environnements depuis lesquels ils émergent.\n\nC'est un film qui po
 ssède une portée universelle car au-delà de ce qu'il dit de ce mouvemen
 t\, il nous parle des territoires\, de la ruralité\, de l'invisibilité r
 essentie par les personnes qui y vivent\, de l'écologie ou encore de la d
 émocratie.
ATTACH;FMTTYPE=image/jpeg:https://cafeculturelcitoyen.org/wp-content/uploa
 ds/2023/11/Les-voies-jaunes.png
END:VEVENT
BEGIN:VTIMEZONE
TZID:Europe/Paris
X-LIC-LOCATION:Europe/Paris
BEGIN:STANDARD
DTSTART:20231029T020000
TZOFFSETFROM:+0200
TZOFFSETTO:+0100
TZNAME:CET
END:STANDARD
END:VTIMEZONE
END:VCALENDAR