BEGIN:VCALENDAR
VERSION:2.0
PRODID:-//wp-events-plugin.com//7.2.3.1//EN
TZID:Europe/Paris
X-WR-TIMEZONE:Europe/Paris
BEGIN:VEVENT
UID:1690@cafeculturelcitoyen.org
DTSTART;TZID=Europe/Paris:20220317T200000
DTEND;TZID=Europe/Paris:20220317T221500
DTSTAMP:20220308T101339Z
URL:https://cafeculturelcitoyen.org/evenements/projection-courts-metrages-
 documentaires/
SUMMARY:Projection courts métrages documentaires
DESCRIPTION:En collaboration avec 99 production le 3C vous invite une fois 
 par mois à une projection de documentaires internationaux. Le thème "Au 
 féminin" encadrera la prochaine soirée.\n\n99 production organise des so
 irées projections avec différents lieux culturels. Chaque soirée est en
 cadrée par un thème : l’exil\, l'homosexualité\, le féminisme etc...
   Le projet vise notamment à  tisser un réseau de diffusion alternatif
   et permettre à des films indépendants d'êtres vus et partagés.\n\n
 «   Notre objectif est d'utiliser le multilinguisme pour donner de la vi
 sibilité à des histoires vraies\, des films porteurs de messages univers
 els\, des documentaires du monde entier susceptibles de parler à tout un 
 chacun\, de générer le débat\, l'émotion\, le dialogue. "\n\n\nPour pl
 us d'informations sur la séance
ATTACH;FMTTYPE=image/jpeg:https://cafeculturelcitoyen.org/wp-content/uploa
 ds/2021/09/au-feminin.png
END:VEVENT
BEGIN:VTIMEZONE
TZID:Europe/Paris
X-LIC-LOCATION:Europe/Paris
BEGIN:STANDARD
DTSTART:20211031T020000
TZOFFSETFROM:+0200
TZOFFSETTO:+0100
TZNAME:CET
END:STANDARD
END:VTIMEZONE
END:VCALENDAR