BEGIN:VCALENDAR
VERSION:2.0
PRODID:-//wp-events-plugin.com//7.2.3.1//EN
TZID:Europe/Paris
X-WR-TIMEZONE:Europe/Paris
BEGIN:VEVENT
UID:2323@cafeculturelcitoyen.org
DTSTART;TZID=Europe/Paris:20230719T190000
DTEND;TZID=Europe/Paris:20230719T220000
DTSTAMP:20230630T143220Z
URL:https://cafeculturelcitoyen.org/evenements/problemos-projection-de-fil
 m/
SUMMARY:Problemos - Projection de film
DESCRIPTION:\n\nEric Judor et Blanche Gardin à l'assaut des adeptes du New
  Age...\n\n&nbsp\;\n\nJeanne et Victor sont deux jeunes Parisiens de retou
 r de vacances. En chemin\, ils font une halte pour saluer leur ami Jean-Pa
 ul\, sur la prairie où sa communauté a élu résidence. Le groupe lutte 
 contre la construction d’un parc aquatique sur la dernière zone humide 
 de la région\, et plus généralement contre la société moderne\, la gr
 ande Babylone. Séduits par une communauté qui prône le « vivre autreme
 nt »\, où l’individualisme\, la technologie et les distinctions de gen
 re sont abolis\, Jeanne et Victor acceptent l’invitation qui leur est fa
 ite de rester quelques jours. Lorsqu’un beau matin la barrière de CRS q
 ui leur fait face a disparu…la Communauté pense l’avoir emporté sur 
 le monde moderne. Mais le plaisir est de courte durée…à l’exception 
 de leur campement\, la population terrestre a été décimée par une terr
 ible pandémie. Ce qui fait du groupe les derniers survivants du monde. Va
 -t-il falloir se trouver de nouveaux ennemis pour survivre ?\nRevue de pre
 sse\nLes Cahiers du cinéma : Rien n’est jamais scandé dans le comique
  volontiers informe d’éric Judor\, qui repose cependant sur une mécani
 que très fine : un burlesque de pure réactivité\, qui ne se formule q
 ue dans le hiatus\, le malaise\, l’anomalie posée par sa présence d’
 enfant angoissé et lunaire dans un monde d’adultes auquel il reste étr
 anger.\n\nPositif : Au-delà des péripéties du scénario (...) et de sa
  trame narrative (...)\, ce qui frappe et chante dans ce film jouissif....
  ce sont ses comédiens.\n\nTélérama : Alors\, débilos\, "Problemos" ?
  Oui\, et cet humour régressif assumé\, qui fait des allers-retours entr
 e premier\, deuxième et troisième degrés\, fait un bien fou par les tem
 ps qui courent.\n\nL’Obs : Le film est foutraque\, mais les bonnes rép
 liques fusent\, les acteurs\, peu connus\, sont impayables et l’humour (
 pas si) bête et méchant fait souvent mouche. On dirait du Mocky réussi.
  Ou "les Bronzés" de Notre-Dame-des-Landes.\n\n
ATTACH;FMTTYPE=image/jpeg:https://cafeculturelcitoyen.org/wp-content/uploa
 ds/2023/06/Capture-decran-2023-06-30-163126-scaled.jpg
END:VEVENT
BEGIN:VTIMEZONE
TZID:Europe/Paris
X-LIC-LOCATION:Europe/Paris
BEGIN:DAYLIGHT
DTSTART:20230326T030000
TZOFFSETFROM:+0100
TZOFFSETTO:+0200
TZNAME:CEST
END:DAYLIGHT
END:VTIMEZONE
END:VCALENDAR