BEGIN:VCALENDAR
VERSION:2.0
PRODID:-//wp-events-plugin.com//7.2.3.1//EN
TZID:Europe/Paris
X-WR-TIMEZONE:Europe/Paris
BEGIN:VEVENT
UID:1705@cafeculturelcitoyen.org
DTSTART;TZID=Europe/Paris:20220416T200000
DTEND;TZID=Europe/Paris:20220416T200000
DTSTAMP:20220413T130700Z
URL:https://cafeculturelcitoyen.org/evenements/presentation-de-princesa/
SUMMARY:Présentation du livre Princesa Annulé !
DESCRIPTION:Princesa sortie aux éditions Héliotropismes\n\nretrace la tra
 jectoire d'une femme trans\, Fernanda Farias Albuquerque\, des années 196
 0 aux années 1990\, de son Brésil natal à la prison de Rebibbia à Rome
 \, où elle est incarcérée.\nCe roman biographique\, témoignage du parc
 ours trans de Fernanda\, est né en prison grâce aux échanges épistolai
 res entre Fernanda Farias\, Giovanni Tamponi\, un berger sarde (que nous a
 vons récemment rencontré) et un brigadiste rouge incarcéré dans le cad
 re du procès Aldo Moro ter\, Maurizio Iannelli. Des fragments de cette s
 pirale épistolaire sont consultables sur le site http://www.princesa20.
 it/\, dédié à l'histoire du livre et créé par les universités de Rom
 e et d'Aix-Marseille.\nDeux des traductrices viendront présenter le roman
  accompagnées de l'éditeur du livre.
ATTACH;FMTTYPE=image/jpeg:https://cafeculturelcitoyen.org/wp-content/uploa
 ds/2022/03/Sans-titre84.jpg
END:VEVENT
BEGIN:VTIMEZONE
TZID:Europe/Paris
X-LIC-LOCATION:Europe/Paris
BEGIN:DAYLIGHT
DTSTART:20220327T030000
TZOFFSETFROM:+0100
TZOFFSETTO:+0200
TZNAME:CEST
END:DAYLIGHT
END:VTIMEZONE
END:VCALENDAR