BEGIN:VCALENDAR
VERSION:2.0
PRODID:-//wp-events-plugin.com//7.2.3.1//EN
TZID:Europe/Paris
X-WR-TIMEZONE:Europe/Paris
BEGIN:VEVENT
UID:2242@cafeculturelcitoyen.org
DTSTART;TZID=Europe/Paris:20230426T200000
DTEND;TZID=Europe/Paris:20230426T220000
DTSTAMP:20230327T072517Z
URL:https://cafeculturelcitoyen.org/evenements/presentation-de-la-revue-pl
 an-de-campagne/
SUMMARY:Présentation de la Revue "Plan de Campagne"
DESCRIPTION: La Revue Plan de Campagne vous convie au lancement de son six
 ième numéro : En Mai\, perds toi dans la Belle de Mai !\nViens découvr
 ir en avant-première ce numéro et les précédents !\nViens surtout part
 iciper au super jeu Plan de Campagne\, un quizz de plateau plein de questi
 ons enrichissantes.\n                    Quelle planè
 te fut colonisée par les endives ?\n                  
   Qui est Junior Bonner le dernier bagarreur ?\n            
         Est-ce qu'une chose plus grande qu'une autre peut être co
 ntenue dans celle-ci ?\nLes réponses au cours de la soirée... Le jeu ser
 a suivi d'une projection\, d’un concert et d'une scène ouverte.\nSi tu 
 souhaites partager une chanson\, un texte\, une lecture\, un peu de tout 
 ça\, une super choré\, profite donc de l'aubaine !\n\n         
    La revue :\n\n\n \n\nPlan de campagne est un revue de création libr
 e qui propose textes\, bédés\, dessins et photos. Ses créateurs croient
  à la capacité de la fiction à divertir les gens et les projeter dans d
 es univers conviviaux et colorés\, sans mots d’ordre et avec les moyens
  financiers du noir et blanc. Résolument moderne et profondément antimac
 roniste\, Plan de Campagne vous fera aimer le nouveau monde dont vous sere
 z les héro.ïne.s.
ATTACH;FMTTYPE=image/jpeg:https://cafeculturelcitoyen.org/wp-content/uploa
 ds/2023/03/Capture-decran-2023-03-27-092434.png
END:VEVENT
BEGIN:VTIMEZONE
TZID:Europe/Paris
X-LIC-LOCATION:Europe/Paris
BEGIN:DAYLIGHT
DTSTART:20230326T030000
TZOFFSETFROM:+0100
TZOFFSETTO:+0200
TZNAME:CEST
END:DAYLIGHT
END:VTIMEZONE
END:VCALENDAR