BEGIN:VCALENDAR
VERSION:2.0
PRODID:-//wp-events-plugin.com//7.2.3.1//EN
TZID:Europe/Paris
X-WR-TIMEZONE:Europe/Paris
BEGIN:VEVENT
UID:1950@cafeculturelcitoyen.org
DTSTART;TZID=Europe/Paris:20221116T180000
DTEND;TZID=Europe/Paris:20221116T200000
DTSTAMP:20221104T094704Z
URL:https://cafeculturelcitoyen.org/evenements/premier-cafe-rencontre-auti
 sme/
SUMMARY:Premier café-rencontre Autisme
DESCRIPTION:Nous vous invitons à venir nombreux et nombreuses au premier c
 afé rencontre Autisme\, autour de boissons et snacks\, entre pair-es auti
 stes.\n\nNous débattrons de sujets libres et ouverts pour cette première
  rencontre.
ATTACH;FMTTYPE=image/jpeg:https://cafeculturelcitoyen.org/wp-content/uploa
 ds/2022/11/Cafe-Rencontre-.jpg
END:VEVENT
BEGIN:VTIMEZONE
TZID:Europe/Paris
X-LIC-LOCATION:Europe/Paris
BEGIN:STANDARD
DTSTART:20221030T020000
TZOFFSETFROM:+0200
TZOFFSETTO:+0100
TZNAME:CET
END:STANDARD
END:VTIMEZONE
END:VCALENDAR