BEGIN:VCALENDAR
VERSION:2.0
PRODID:-//wp-events-plugin.com//7.2.3.1//EN
TZID:Europe/Paris
X-WR-TIMEZONE:Europe/Paris
BEGIN:VEVENT
UID:2289@cafeculturelcitoyen.org
DTSTART;TZID=Europe/Paris:20230603T150000
DTEND;TZID=Europe/Paris:20230603T170000
DTSTAMP:20230525T085705Z
URL:https://cafeculturelcitoyen.org/evenements/pour-la-vie-le-voyage-des-z
 apatistes-en-europe-projection-du-film-en-presence-de-la-realisatrice/
SUMMARY:"Pour la vie"\, le voyage des Zapatistes en Europe - Projection du 
 film en présence de la réalisatrice
DESCRIPTION:500 ans après la conquête du Mexique par les Espagnols\, les 
 zapatistes\, peuples indigènes insurgés du Chiapas\, font le trajet inve
 rse pour à leur tour envahir l'Europe\, mais cette fois-ci\, de manière 
 consensuelle.\nEnvoyé en reconnaissance\, l'Escadron 421\, arrivé par la
  mer à bord de la Montaña\, débarque en Espagne et rebaptise le vieux c
 ontinent « Terre Insoumise ». Une délégation aéroportée\, plus massi
 ve cette fois\, prend ensuite le relais pour rencontrer celles et ceux qui
  luttent « en bas à gauche » contre «l’hydre capitaliste».\nCe film
  documente certaines étapes du Voyage pour la vie des zapatistes et racon
 te depuis le collectif « Dzln » de Douarnenez en Bretagne\, comment des 
 militant.e.s de toute l'Europe vont s'organiser\, avec leurs différences 
 et divergences\, pour accueillir ce voyage et ces échanges inédits.\n&nb
 sp\;\n\nLien vers la bande annonce : cliquez ici ou sur l'image 
ATTACH;FMTTYPE=image/jpeg:https://cafeculturelcitoyen.org/wp-content/uploa
 ds/2023/05/Capture-decran-2023-05-25-104042.png
END:VEVENT
BEGIN:VTIMEZONE
TZID:Europe/Paris
X-LIC-LOCATION:Europe/Paris
BEGIN:DAYLIGHT
DTSTART:20230326T030000
TZOFFSETFROM:+0100
TZOFFSETTO:+0200
TZNAME:CEST
END:DAYLIGHT
END:VTIMEZONE
END:VCALENDAR