BEGIN:VCALENDAR
VERSION:2.0
PRODID:-//wp-events-plugin.com//7.2.3.1//EN
TZID:Europe/Paris
X-WR-TIMEZONE:Europe/Paris
BEGIN:VEVENT
UID:2736@cafeculturelcitoyen.org
DTSTART;TZID=Europe/Paris:20240210T203000
DTEND;TZID=Europe/Paris:20240210T220000
DTSTAMP:20240126T160733Z
URL:https://cafeculturelcitoyen.org/evenements/polux-en-concert/
SUMMARY:Polux en concert !
DESCRIPTION:Polux\, avec un l plutôt que deux\, est auteur-compositeur- in
 terprète de chansons françaises à tendance pop-folk.\n\nIl retranscrit 
 la poésie des années qui passent\, des paysages qui nous submergent\, 
 des ruelles qui apaisent\, des relations amicales et amoureuses qui nous f
 açonnent\, développant des textes poétiques et malicieux.\n\nIl repren
 d notamment des reprises de Cabrel\, Françoise Hardy\, ou d'influence p
 lus récente\, Juliette Armanet.
ATTACH;FMTTYPE=image/jpeg:https://cafeculturelcitoyen.org/wp-content/uploa
 ds/2024/01/Polux-Mauve.jpg
END:VEVENT
BEGIN:VTIMEZONE
TZID:Europe/Paris
X-LIC-LOCATION:Europe/Paris
BEGIN:STANDARD
DTSTART:20231029T020000
TZOFFSETFROM:+0200
TZOFFSETTO:+0100
TZNAME:CET
END:STANDARD
END:VTIMEZONE
END:VCALENDAR