BEGIN:VCALENDAR
VERSION:2.0
PRODID:-//wp-events-plugin.com//7.2.3.1//EN
TZID:Europe/Paris
X-WR-TIMEZONE:Europe/Paris
BEGIN:VEVENT
UID:2340@cafeculturelcitoyen.org
DTSTART;TZID=Europe/Paris:20230911T183000
DTEND;TZID=Europe/Paris:20230911T203000
DTSTAMP:20230809T101748Z
URL:https://cafeculturelcitoyen.org/evenements/pleniere-mensuelle-du-colle
 ctif-climat-du-pays-daix-8/
SUMMARY:Plénière mensuelle du Collectif climat du Pays d'Aix
DESCRIPTION:Nous sommes nombreux à vouloir agir (ensemble) pour le Climat\
 , c'est urgent et c'est possible !\nNous vous invitons donc à partager qu
 estions\, idées\, projets ce mardi 23 août au 3C.\n18 h : accueil\n18 h 
 30 - 20 h 30 : réunion plénière\nLe CCPA c’est quoi?\nFace au défi d
 e la justice climatique qui impacte tous les champs de la vie en société
 \, et devant l’urgence climatique\, le collectif Climat du Pays d’Aix 
 s’est créé début 2015 pour fédérer toutes les énergies individuell
 es et collectives en Pays d’Aix.\nRelais local des association nationale
 s Alternatiba et ANV (Action-non-violente)-COP21\, le CCPA rassemble des i
 ndividus et 25 associations avec pour but de:\n- sensibiliser et informer 
 le grand public et les élu-es aux conséquences du dérèglement climatiq
 ue et aux mesures indispensables à prendre pour faire évoluer les compor
 tements individuels et collectifs\n- promouvoir et relier les alternatives
  concrètes qui existent déjà\, d’en construire de nouvelles (alimenta
 tion\, agriculture\, énergies renouvelables\, transports doux\, monnaie l
 ocale-La Roue\, ...) et d’engager chacun-e à agir à son niveau\n- dén
 oncer et résister aux projets climaticides et aux fausses solutions (agro
 -carburants\, méga-centrales\, nucléaire\, gaz de schiste\, accords de l
 ibre-échange comme le Tafta\, ....)\, conduire des actions de non coopér
 ation (boycott\, changement de banque\, désinvestissement des industries 
 fossiles\, ...) et contester les projets et lois climaticides (action de r
 ue\,...).\n\nDes actions fortes\, locales\, européennes\, internationales
  sont déjà prévues pour la rentrée et suite !\n\nPour agir ensemble po
 ur le Climat\, chacun à sa mesure... soyons nombreux le 9 Septembre au 3C
  !\nPlus d'informations :\nhttp://collectifclimat-paysdaix.fr/\nhttp://col
 lectifclimat-paysdaix.fr/evenements/\nFB : Collectif Climat Pays d'Aix-en-
 Provence\nhttps://alternatiba.eu/\nhttp://anv-cop21.org\n\n\n&nbsp\;\nPour
  respecter les consignes sanitaires\, le nombre de personnes à l’intér
 ieur du café est limité à 25.\nLe port du masque est obligatoire lors d
 es déplacements\, on peut l’enlever une fois assis à table. Du gel hyd
 roalcoolique est à disposition à l’entrée du 3C.
ATTACH;FMTTYPE=image/jpeg:https://cafeculturelcitoyen.org/wp-content/uploa
 ds/2017/09/Logo-CCPA.png
END:VEVENT
BEGIN:VTIMEZONE
TZID:Europe/Paris
X-LIC-LOCATION:Europe/Paris
BEGIN:DAYLIGHT
DTSTART:20230326T030000
TZOFFSETFROM:+0100
TZOFFSETTO:+0200
TZNAME:CEST
END:DAYLIGHT
END:VTIMEZONE
END:VCALENDAR