BEGIN:VCALENDAR
VERSION:2.0
PRODID:-//wp-events-plugin.com//7.2.3.1//EN
TZID:Europe/Paris
X-WR-TIMEZONE:Europe/Paris
BEGIN:VEVENT
UID:2577@cafeculturelcitoyen.org
DTSTART;TZID=Europe/Paris:20231207T200000
DTEND;TZID=Europe/Paris:20231207T200000
DTSTAMP:20231114T141555Z
URL:https://cafeculturelcitoyen.org/evenements/pierre-devrieux-le-passepor
 t-des-oiseaux/
SUMMARY:Pierre DÉVRIEUX : Le Passeport des Oiseaux
DESCRIPTION:Conférence gesticulée de Pierre Dévrieux : Droit aux vacance
 s\, Géopolitique\, Liberté de circuler\, Néo-colonialisme\, Tourisme\, 
 Voyage
ATTACH;FMTTYPE=image/jpeg:https://cafeculturelcitoyen.org/wp-content/uploa
 ds/2023/11/pdevrieux1.png
END:VEVENT
BEGIN:VTIMEZONE
TZID:Europe/Paris
X-LIC-LOCATION:Europe/Paris
BEGIN:STANDARD
DTSTART:20231029T020000
TZOFFSETFROM:+0200
TZOFFSETTO:+0100
TZNAME:CET
END:STANDARD
END:VTIMEZONE
END:VCALENDAR