BEGIN:VCALENDAR
VERSION:2.0
PRODID:-//wp-events-plugin.com//7.2.3.1//EN
TZID:Europe/Paris
X-WR-TIMEZONE:Europe/Paris
BEGIN:VEVENT
UID:2274@cafeculturelcitoyen.org
DTSTART;TZID=Europe/Paris:20230517T190000
DTEND;TZID=Europe/Paris:20230517T200000
DTSTAMP:20230428T084933Z
URL:https://cafeculturelcitoyen.org/evenements/permanence-du-sel-systemes-
 dechange-local/
SUMMARY:Permanence du SEL (Systèmes d'Echange Local)
DESCRIPTION:Le SEL\, en vérité\, c'est...\n\nLes Systèmes d’Échange L
 ocal\, ou Services d’Échange Local\, sont des groupes de personnes qui 
 pratiquent l'échange multilatéral des biens\, services et de savoirs.\n\
 nPour certains\, l'accent est mis sur l'économique: le SEL permet à ses 
 membres de subvenir à certains de leurs besoins sans avoir à donner de l
 'argent.\n\nPour d'autres\, le SEL est surtout un acte de résistance cons
 tructive\, de militantisme\, contre la mondialisation et ce qu'elle engend
 re d'inéquitable.\n\nPour d'autres encore\, c'est l'aspect relationnel qu
 i prime: le SEL permet la véritable rencontre avec l'autre\, est un moyen
  de combattre l'exclusion\; au-delà de la "rencontre"\, c'est un véritab
 le réseau de solidarité(s) qui peut se tisser.\n\nD'autres encore insist
 eront sur ce que le SEL permet d'épanouissement personnel\, grâce notamm
 ent à l'adoption de critères de valeur plus humains\, à la possibilité
  de devenir utile à un groupe.\n\nEnfin\, certains privilégieront le cot
 é "intellectuel"\, voyant dans le SEL le lieu idéal de réfléchir sur l
 e système économique dominant\, la monnaie\, les relations humaines\, et
 c\, et d'expérimenter des voies alternatives.\n\nLe SEL\, en vérité\, c
 'est tout ça\, et bien plus encore!
ATTACH;FMTTYPE=image/jpeg:https://cafeculturelcitoyen.org/wp-content/uploa
 ds/2019/12/permanenceSEL.png
END:VEVENT
BEGIN:VTIMEZONE
TZID:Europe/Paris
X-LIC-LOCATION:Europe/Paris
BEGIN:DAYLIGHT
DTSTART:20230326T030000
TZOFFSETFROM:+0100
TZOFFSETTO:+0200
TZNAME:CEST
END:DAYLIGHT
END:VTIMEZONE
END:VCALENDAR