BEGIN:VCALENDAR
VERSION:2.0
PRODID:-//wp-events-plugin.com//7.2.3.1//EN
TZID:Europe/Paris
X-WR-TIMEZONE:Europe/Paris
BEGIN:VEVENT
UID:2573@cafeculturelcitoyen.org
DTSTART;TZID=Europe/Paris:20240120T160000
DTEND;TZID=Europe/Paris:20240120T170000
DTSTAMP:20231113T113307Z
URL:https://cafeculturelcitoyen.org/evenements/perce-neige-et-la-plume-du-
 vent/
SUMMARY:Le Conte de Perce-Neige et la Plume du Vent
DESCRIPTION:Un prince qui rêve de devenir artiste\, trois ogresses bienfai
 santes\, une princesse aventurière : en bref\, un conte qui bouscule les 
 stéréotypes !\n\nHistoire racontée par Marie-Laure Rey d'après une lib
 re adaptation de l'album de Gaël Aymon
ATTACH;FMTTYPE=image/jpeg:https://cafeculturelcitoyen.org/wp-content/uploa
 ds/2023/11/affiche-Perce-Neige-3C_page-0001.jpg
END:VEVENT
BEGIN:VTIMEZONE
TZID:Europe/Paris
X-LIC-LOCATION:Europe/Paris
BEGIN:STANDARD
DTSTART:20231029T020000
TZOFFSETFROM:+0200
TZOFFSETTO:+0100
TZNAME:CET
END:STANDARD
END:VTIMEZONE
END:VCALENDAR