BEGIN:VCALENDAR
VERSION:2.0
PRODID:-//wp-events-plugin.com//7.2.3.1//EN
TZID:Europe/Paris
X-WR-TIMEZONE:Europe/Paris
BEGIN:VEVENT
UID:2437@cafeculturelcitoyen.org
DTSTART;TZID=Europe/Paris:20231215T203000
DTEND;TZID=Europe/Paris:20231215T213000
DTSTAMP:20231114T143657Z
URL:https://cafeculturelcitoyen.org/evenements/oui-je-bous/
SUMMARY:Oui\, je bous !
DESCRIPTION:Cabaret poétique. Jazz verbal. P.T.T. : Poète Tout Terrain. D
 u sketch de situation jusqu'au poème\, calembour en action\, en passant p
 ar la chansonnette a capella.\n\nAu partage ! Nous chanterons ensemble au 
 final\, dans la grande pagaille du monde...
ATTACH;FMTTYPE=image/jpeg:https://cafeculturelcitoyen.org/wp-content/uploa
 ds/2023/10/affiche_je_bous_-1.jpg
END:VEVENT
BEGIN:VTIMEZONE
TZID:Europe/Paris
X-LIC-LOCATION:Europe/Paris
BEGIN:STANDARD
DTSTART:20231029T020000
TZOFFSETFROM:+0200
TZOFFSETTO:+0100
TZNAME:CET
END:STANDARD
END:VTIMEZONE
END:VCALENDAR