BEGIN:VCALENDAR
VERSION:2.0
PRODID:-//wp-events-plugin.com//7.2.3.1//EN
TZID:Europe/Paris
X-WR-TIMEZONE:Europe/Paris
BEGIN:VEVENT
UID:2430@cafeculturelcitoyen.org
DTSTART;TZID=Europe/Paris:20231118T193000
DTEND;TZID=Europe/Paris:20231118T203000
DTSTAMP:20231009T070728Z
URL:https://cafeculturelcitoyen.org/evenements/oleya/
SUMMARY:OLEYA
DESCRIPTION:Passionnés de musique sud américaine\, Oleya vous fait voyage
 r de la douceur des chansons brésiliennes à l'intensité du tango argent
 in. En passant par la samba et quelques airs de forró\, il y aura bien d'
 autres surprises au rendez vous !
ATTACH;FMTTYPE=image/jpeg:https://cafeculturelcitoyen.org/wp-content/uploa
 ds/2023/10/IMG-20230907-WA0006.jpg
END:VEVENT
BEGIN:VTIMEZONE
TZID:Europe/Paris
X-LIC-LOCATION:Europe/Paris
BEGIN:STANDARD
DTSTART:20231029T020000
TZOFFSETFROM:+0200
TZOFFSETTO:+0100
TZNAME:CET
END:STANDARD
END:VTIMEZONE
END:VCALENDAR