BEGIN:VCALENDAR
VERSION:2.0
PRODID:-//wp-events-plugin.com//7.2.3.1//EN
TZID:Europe/Paris
X-WR-TIMEZONE:Europe/Paris
BEGIN:VEVENT
UID:1967@cafeculturelcitoyen.org
DTSTART;TZID=Europe/Paris:20221207T180000
DTEND;TZID=Europe/Paris:20221207T210000
DTSTAMP:20221130T085528Z
URL:https://cafeculturelcitoyen.org/evenements/noel-colombien/
SUMMARY:Noël colombien !
DESCRIPTION:Nos ami-es de la communauté colombienne d'Aix en Provence veul
 ent nous faire partager les coutumes (et recettes !) de Colombie. Bougies\
 , empanadas et joie de vivre latina.\n\nIls et elles auront préparé des 
 kilogrammes de petits plats : il faudra être nombreux et nombreuses pour 
 tout manger à prix modique !\n\nMise en place à partir de 18 pendant la 
 présentation de l'association "J'accueille"\, puis vous pourrez continuer
  de profiter de l'ambiance pendant le boeuf jazz manouche qui suivra.\n\nH
 asta pronto !
ATTACH;FMTTYPE=image/jpeg:https://cafeculturelcitoyen.org/wp-content/uploa
 ds/2022/11/Capture-decran-2022-11-30-095053.png
END:VEVENT
BEGIN:VTIMEZONE
TZID:Europe/Paris
X-LIC-LOCATION:Europe/Paris
BEGIN:STANDARD
DTSTART:20221030T020000
TZOFFSETFROM:+0200
TZOFFSETTO:+0100
TZNAME:CET
END:STANDARD
END:VTIMEZONE
END:VCALENDAR