BEGIN:VCALENDAR
VERSION:2.0
PRODID:-//wp-events-plugin.com//7.2.3.1//EN
TZID:Europe/Paris
X-WR-TIMEZONE:Europe/Paris
BEGIN:VEVENT
UID:2665@cafeculturelcitoyen.org
DTSTART;TZID=Europe/Paris:20240223T200000
DTEND;TZID=Europe/Paris:20240223T210000
DTSTAMP:20240110T105615Z
URL:https://cafeculturelcitoyen.org/evenements/nick-hollow-en-concert/
SUMMARY:Nick Hollow en concert !
DESCRIPTION:\n\n\n\n\n\n\nMusicien foutraque des plaines ariègeoises\, Pab
 lo Nicoleau a fait de l’autodidaxie et de la sérendipité ses moyens de
  locomotion musicale.\nLes guitares au chorus gluant\, les synthétiseurs 
 de brocantes et les pédales de delay défectueuses habitent ses compositi
 ons bancales\, douces et pourtant très animées.\nCelles-ci ont été emp
 ilées en deux EP : « slippery\, isn't it ? » et « oh\, concreteness »
  (disponibles sur Bandcamp)\, avant « roughwool's dormer »\, qui clôt c
 ette boucle musicale discrète et lancinante.\nEn parallèle de tout ceci\
 , Pablo contribue / fait également parti du / au trio Zap (sorte de spect
 acle circassien post-punk baloche)\, avec Tibo Toucourt et Claude Delrieu 
 \; et forme avec Elisa Tribouley le duo Bubblegum Corail\, qui explore les
  phosphorescences des fonds marins avec des synthétiseurs d'occasion.\nEn
 registré dans une chambre avec ce qui s'y trouvait\, « roughwool's dorme
 r » est un EP qui ne fait que fuir\, dans tous les sens du termes.\nSorte
  de « Conan Mockasin passé à la moulinette du lo-fi »\, les sons qu'on
  entend ici sont habités par quelque chose qui cherche à sortir.\nDes so
 upirs\, des murmures et des mélodies fredonnées\, c'est ce qui structure
  cet EP\, ce qui s'est échappé de la tête de son auteur.\nAnimé par un
 e inertie lente\, il déborde les genres pour venir se lover là où il pe
 ut se faufiler\, dans des oreilles par exemples.\nMusicien foutraque des p
 laines ariègeoises\, Pablo Nicoleau a fait de l’autodidaxie et de la s
 érendipité ses moyens de locomotion musicale.\nLes guitares au chorus gl
 uant\, les synthétiseurs de brocantes et les pédales de delay défectueu
 ses habitent ses compositions bancales\, douces et pourtant très animées
 .\nCelles-ci ont été empilées en deux EP : slippery\, isn’t it ? et o
 h\, concreteness (disponibles sur Bandcamp)\, avant roughwool’s dormer \
 , qui clôt cette boucle musicale discrète et lancinante.\nEn parallèle\
 , Pablo fait également parti du trio Zap (sorte de spectacle circassien p
 ost-punk baloche)\, avec Tibo Toucourt et Claude Delrieu \; et forme avec 
 Elisa Tribouley le duo Bubblegum Corail\, qui explore les phosphorescences
  des fonds marins avec des synthétiseurs d’occasion.\nEnregistré dans 
 une chambre avec ce qui s’y trouvait\, roughwool’s dormer est un EP qu
 i ne fait que fuir\, dans tous les sens du termes.\nSorte de « Conan Mock
 asin passé à la moulinette du lo-fi »\, les sons qu’on entend ici son
 t habités par quelque chose qui cherche à sortir.\nDes soupirs\, des mur
 mures et des mélodies fredonnées\, c’est ce qui structure cet EP\, ce 
 qui s’est échappé de la tête de son auteur.\nAnimé par une inertie l
 ente\, il déborde les genres pour venir se lover là où il peut se faufi
 ler\, dans des oreilles par exemples.\n\n\n\n\n\n\n\n
ATTACH;FMTTYPE=image/jpeg:https://cafeculturelcitoyen.org/wp-content/uploa
 ds/2024/01/Nick-Hollow-photo-scaled.jpg
END:VEVENT
BEGIN:VTIMEZONE
TZID:Europe/Paris
X-LIC-LOCATION:Europe/Paris
BEGIN:STANDARD
DTSTART:20231029T020000
TZOFFSETFROM:+0200
TZOFFSETTO:+0100
TZNAME:CET
END:STANDARD
END:VTIMEZONE
END:VCALENDAR