BEGIN:VCALENDAR
VERSION:2.0
PRODID:-//wp-events-plugin.com//7.2.3.1//EN
TZID:Europe/Paris
X-WR-TIMEZONE:Europe/Paris
BEGIN:VEVENT
UID:2352@cafeculturelcitoyen.org
DTSTART;TZID=Europe/Paris:20230915T203000
DTEND;TZID=Europe/Paris:20230915T223000
DTSTAMP:20230816T155854Z
URL:https://cafeculturelcitoyen.org/evenements/natcha-concert-pop-rock-fol
 k/
SUMMARY:Natcha - Concert : pop\, rock\, folk
DESCRIPTION:\nnatcha\, c'est une musique aux accents folk et rock chers aux
  influences\, non moins folk et rock\, qui la définissent. C'est une sens
 ibilité aux sonorités acoustiques dont les instruments en bois et en pea
 u témoignent au détour de chaque titre. \nnatcha\, c'est une voix\, pro
 fonde quand elle se fait intense\, aérienne quand elle se joue de la grav
 ité\, lyrique quand elle se moque du mélange des genres.\nnatcha\, c'est
  également un son de guitare distordu ou noyé dans le delay\, une phrase
  à 6 cordes confiée aux bons soins d'un looper électronique en métal\,
  une nappe de nature sortie d'une machine en plastique.\nMais natcha\, ava
 nt tout\, c'est un duo\, celui de deux solitaires en mal de symbiose. C'es
 t un artiste à quatre mains\, une chimère créatrice de nourritures pour
  les oreilles\, pour la tête et le cœur.\n\n
ATTACH;FMTTYPE=image/jpeg:https://cafeculturelcitoyen.org/wp-content/uploa
 ds/2023/08/Capture-decran-2023-08-16-175733.png
END:VEVENT
BEGIN:VTIMEZONE
TZID:Europe/Paris
X-LIC-LOCATION:Europe/Paris
BEGIN:DAYLIGHT
DTSTART:20230326T030000
TZOFFSETFROM:+0100
TZOFFSETTO:+0200
TZNAME:CEST
END:DAYLIGHT
END:VTIMEZONE
END:VCALENDAR