BEGIN:VCALENDAR
VERSION:2.0
PRODID:-//wp-events-plugin.com//7.2.3.1//EN
TZID:Europe/Paris
X-WR-TIMEZONE:Europe/Paris
BEGIN:VEVENT
UID:2263@cafeculturelcitoyen.org
DTSTART;TZID=Europe/Paris:20230519T203000
DTEND;TZID=Europe/Paris:20230519T220000
DTSTAMP:20230427T160523Z
URL:https://cafeculturelcitoyen.org/evenements/mary-lasterisk-concert/
SUMMARY:Mary Lasterisk - concert
DESCRIPTION:\nRythmes groovy\, phrasé soul hip-hop\, ambiances trip-hop\,
  accents d’Afrique\, Mary L*Asterisk est ce mélange délicieusement e
 ́picé\, à la fois étonnant et détonnant !\n\n\n\n\n\n\n\n\nDans s
 a bouche un français percutant et des mots qui font mouche \; une rythmi
 que impeccable et des textes qui touchent. Mary L*Asterisk sort des cadres
 \, emprunte de nouveaux sentiers\, et apporte un souffle nouveau et person
 nel à la chanson française. L’artiste impose son style !\n\n\nTanto
 ̂t douceur\, tantôt torrent d’énergie\, tantôt smooth\, tantôt 
 nawakerie\, et toujours groovy\, Mary* nous embarque dans son univers sing
 ulier pour un moment de partage garanti…\n\nAprès 15 ans de route avec 
 sa boite magique (looper)\, Mary* fait cette année le choix du guitare-vo
 ix\, en nous livrant des versions épurées pleine de fraicheur de ses c
 hansons. Quelques pédales d’effets « smoothisantes » (effets typique
 s de son groove aérien)\, une mini-boîte magique quand même pour quel
 ques boucles qui la chatouillent… mais rien de plus. Comme un besoin de 
 simplicité qui s’impose !\n\nComme une bonne étoile associée à s
 on nom ou un Nota Bene pour signifier qu’elle livre ses sentiments les p
 lus profonds\, Mary* s’est accolée une astérisque (et périls si tu
  l’oublies) incrustée dans son ciel comme un porte bonheur…*\n\n\nht
 tps://www.youtube.com/watch?v=lYHTtH1c-V0&amp\;t=50s\n\n\n\n\n\n
ATTACH;FMTTYPE=image/jpeg:https://cafeculturelcitoyen.org/wp-content/uploa
 ds/2023/04/Capture-decran-2023-04-27-104233.png
END:VEVENT
BEGIN:VTIMEZONE
TZID:Europe/Paris
X-LIC-LOCATION:Europe/Paris
BEGIN:DAYLIGHT
DTSTART:20230326T030000
TZOFFSETFROM:+0100
TZOFFSETTO:+0200
TZNAME:CEST
END:DAYLIGHT
END:VTIMEZONE
END:VCALENDAR