BEGIN:VCALENDAR
VERSION:2.0
PRODID:-//wp-events-plugin.com//7.2.3.1//EN
TZID:Europe/Paris
X-WR-TIMEZONE:Europe/Paris
BEGIN:VEVENT
UID:2124@cafeculturelcitoyen.org
DTSTART;TZID=Europe/Paris:20230310T183000
DTEND;TZID=Europe/Paris:20230310T200000
DTSTAMP:20230309T161716Z
URL:https://cafeculturelcitoyen.org/evenements/luttes-radicales-contre-les
 -feminicides-lexemple-du-mexique-semaine-feministe-du-8-mars/
SUMMARY:Luttes radicales contre les féminicides\, l'exemple du Mexique - s
 emaine féministe du "8 mars"
DESCRIPTION:Le Mexique détient\, avec la Turquie et quelques autres pays\,
  l'horrible record du nombre de féminicides annuel. Face à ce qui est de
 venu un phénomène de société\, les femmes mexicaines luttent avec forc
 e et détermination. Deux enquêtes pour illustrer la réalité du fémini
 cide (qui existe aussi en France) et des manières de lutter contre le sys
 tème qui le permet.\n\n2 Documentaires de 12 mn chacun\, suivi d'un déba
 t avec le public :\nMexique : elles se soulèvent contre les féminicides\
 nBloque Negro\, la révolution féministe\nLa soirée se poursuivra par un
  concert de musique latina
ATTACH;FMTTYPE=image/jpeg:https://cafeculturelcitoyen.org/wp-content/uploa
 ds/2023/02/Capture-decran-2023-02-26-192521.png
END:VEVENT
BEGIN:VTIMEZONE
TZID:Europe/Paris
X-LIC-LOCATION:Europe/Paris
BEGIN:STANDARD
DTSTART:20221030T020000
TZOFFSETFROM:+0200
TZOFFSETTO:+0100
TZNAME:CET
END:STANDARD
END:VTIMEZONE
END:VCALENDAR