BEGIN:VCALENDAR
VERSION:2.0
PRODID:-//wp-events-plugin.com//7.2.3.1//EN
TZID:Europe/Paris
X-WR-TIMEZONE:Europe/Paris
BEGIN:VEVENT
UID:2268@cafeculturelcitoyen.org
DTSTART;TZID=Europe/Paris:20230517T203000
DTEND;TZID=Europe/Paris:20230517T223000
DTSTAMP:20230427T172122Z
URL:https://cafeculturelcitoyen.org/evenements/loulou-spectacle-theatral/
SUMMARY:Loulou - spectacle théâtral
DESCRIPTION:Tout un parcours en quête de soi ! Chemin de vie avec ses haut
 s\, ses bas... ce moule dans lequel Loulou se contorsionne.\n\n\nArrivera 
 t'elle à trouver sa propre recette ?\n
ATTACH;FMTTYPE=image/jpeg:https://cafeculturelcitoyen.org/wp-content/uploa
 ds/2023/04/Capture-decran-2023-04-27-182443.png
END:VEVENT
BEGIN:VTIMEZONE
TZID:Europe/Paris
X-LIC-LOCATION:Europe/Paris
BEGIN:DAYLIGHT
DTSTART:20230326T030000
TZOFFSETFROM:+0100
TZOFFSETTO:+0200
TZNAME:CEST
END:DAYLIGHT
END:VTIMEZONE
END:VCALENDAR