BEGIN:VCALENDAR
VERSION:2.0
PRODID:-//wp-events-plugin.com//7.2.3.1//EN
TZID:Europe/Paris
X-WR-TIMEZONE:Europe/Paris
BEGIN:VEVENT
UID:2621@cafeculturelcitoyen.org
DTSTART;TZID=Europe/Paris:20240217T203000
DTEND;TZID=Europe/Paris:20240217T223000
DTSTAMP:20231211T111824Z
URL:https://cafeculturelcitoyen.org/evenements/lo-pailhes-en-concert/
SUMMARY:Lo Pailhes en concert !
DESCRIPTION:Songwriter à la voix incantatoire\, Lo Pailhès signe des chan
 sons rock à texte sur des mélodies crépusculaires.\n\nIl est un animal 
 rare. Il croit aux vertus de la simplicité. Des mélodies rock crépuscul
 aires. Une puissance de la parole. Il écrit des textes sans concessions q
 ui ne tournicotent pas autour d’une idée. C’est presque sauvage par l
 es temps qui courent.\n\nLa poésie rock ombreuse et abstraite des chanson
 s de Lo Pailhès rappelle à bien des égards celles d’un certain Lou Re
 ed. Un spleen quasi baudelairien qui nous fait plonger dans les histoires 
 grotesques et sérieuses. Un univers à mi-chemin entre songe et réalité
 . Des atmosphères plutôt sombres portées par un phrasé découpé et tr
 anché. Bref\, du rock français comme on l’aime. Stylé et parfaitement
  sincère.\n\nAvec Guillaume Bonnet à la batterie et Gérard Roustan à l
 a basse.
ATTACH;FMTTYPE=image/jpeg:https://cafeculturelcitoyen.org/wp-content/uploa
 ds/2023/12/Lo-ailhes-e1702293498898.jpeg
END:VEVENT
BEGIN:VTIMEZONE
TZID:Europe/Paris
X-LIC-LOCATION:Europe/Paris
BEGIN:STANDARD
DTSTART:20231029T020000
TZOFFSETFROM:+0200
TZOFFSETTO:+0100
TZNAME:CET
END:STANDARD
END:VTIMEZONE
END:VCALENDAR