BEGIN:VCALENDAR
VERSION:2.0
PRODID:-//wp-events-plugin.com//7.2.3.1//EN
TZID:Europe/Paris
X-WR-TIMEZONE:Europe/Paris
BEGIN:VEVENT
UID:2369@cafeculturelcitoyen.org
DTSTART;TZID=Europe/Paris:20231028T203000
DTEND;TZID=Europe/Paris:20231028T223000
DTSTAMP:20230913T160642Z
URL:https://cafeculturelcitoyen.org/evenements/les-samedis-du-3c-yor-pfeif
 fer-en-concert/
SUMMARY:Les samedis du 3C - Yor Pfeiffer en concert !
DESCRIPTION:Yor Pfeiffer est auteur-compositeur\, interprète. À travers t
 outes ses créations\, il transmet une foi hors du commun en la vie.\nSon 
 parcours et son œuvre nous témoignent que quels que soient les écueils 
 de l’existence\, une nouvelle joie est toujours possible.\nIl chante tou
 tes les notes de la renaissance.\nSes chansons sont des accélérateurs d
 ’ouverture d’âme.\nIl fait rimer humour et poésie\, tendresse et iro
 nie\, rythme et\nmélodie.\n“Ses textes nous invitent à nous émouvoir 
 et sa musique... à nous\nmouvoir.” [Happinez magazine]\n\nhttps://www.y
 or.mu/
ATTACH;FMTTYPE=image/jpeg:https://cafeculturelcitoyen.org/wp-content/uploa
 ds/2023/09/Capture-decran-2023-09-13-180321.jpg
END:VEVENT
BEGIN:VTIMEZONE
TZID:Europe/Paris
X-LIC-LOCATION:Europe/Paris
BEGIN:DAYLIGHT
DTSTART:20230326T030000
TZOFFSETFROM:+0100
TZOFFSETTO:+0200
TZNAME:CEST
END:DAYLIGHT
END:VTIMEZONE
END:VCALENDAR