BEGIN:VCALENDAR
VERSION:2.0
PRODID:-//wp-events-plugin.com//7.2.3.1//EN
TZID:Europe/Paris
X-WR-TIMEZONE:Europe/Paris
BEGIN:VEVENT
UID:2244@cafeculturelcitoyen.org
DTSTART;TZID=Europe/Paris:20230415T203000
DTEND;TZID=Europe/Paris:20230415T220000
DTSTAMP:20230327T085639Z
URL:https://cafeculturelcitoyen.org/evenements/les-samedis-du-3c-yiskah/
SUMMARY:Les Samedis du 3C - Yiskah
DESCRIPTION:Musicienne autodidacte avignonnaise\, Yiskah est baignée dans 
 un milieu musical depuis son enfance. Elle creuse son sillon dans un style
  pop folk empreint d’une grande sensibilité et sobriété. En français
  comme en anglais\, ses textes poétiques contribuent à l’élaboration 
 d’un univers intimiste et authentique.\nAccompagnée de sa guitare\, ell
 e intègre ponctuellement la musique électronique et apporte avec intensi
 té de nouveaux rythmes\, textures\, couleurs à ses chansons.\n\n“Nous 
 sommes dans un univers minimaliste en symbiose avec la voix...carressante 
 et\nvoluptueuse\, épousant parfaitement les contours de chansons profonde
 s et intenses.”
ATTACH;FMTTYPE=image/jpeg:https://cafeculturelcitoyen.org/wp-content/uploa
 ds/2023/03/Capture-decran-2023-03-27-101507.png
END:VEVENT
BEGIN:VTIMEZONE
TZID:Europe/Paris
X-LIC-LOCATION:Europe/Paris
BEGIN:DAYLIGHT
DTSTART:20230326T030000
TZOFFSETFROM:+0100
TZOFFSETTO:+0200
TZNAME:CEST
END:DAYLIGHT
END:VTIMEZONE
END:VCALENDAR