BEGIN:VCALENDAR
VERSION:2.0
PRODID:-//wp-events-plugin.com//7.2.3.1//EN
TZID:Europe/Paris
X-WR-TIMEZONE:Europe/Paris
BEGIN:VEVENT
UID:2351@cafeculturelcitoyen.org
DTSTART;TZID=Europe/Paris:20231021T203000
DTEND;TZID=Europe/Paris:20231021T220000
DTSTAMP:20231005T091046Z
URL:https://cafeculturelcitoyen.org/evenements/les-samedis-du-3c-yan-yaleg
 o-en-concert/
SUMMARY:Les samedis du 3C - Yan Yalego en concert
DESCRIPTION:Yan Yalego à la guitare\, et au chant nous avait déjà régal
 é avec son duo Baron Gabriel. Il revient ce mois-ci pour l'un des dernier
 s concerts de la saison. Répertoire oscillant entre le blues traditionnel
 \, le folk et le rock'n'roll des origines\, émaillé de quelques reprises
  assez décalées de standards plus connus.\n\nOn vous souhaite un super c
 oncert
ATTACH;FMTTYPE=image/jpeg:https://cafeculturelcitoyen.org/wp-content/uploa
 ds/2023/08/YanYalegoPortait-2-e1697868605689.png
END:VEVENT
BEGIN:VTIMEZONE
TZID:Europe/Paris
X-LIC-LOCATION:Europe/Paris
BEGIN:DAYLIGHT
DTSTART:20230326T030000
TZOFFSETFROM:+0100
TZOFFSETTO:+0200
TZNAME:CEST
END:DAYLIGHT
END:VTIMEZONE
END:VCALENDAR