BEGIN:VCALENDAR
VERSION:2.0
PRODID:-//wp-events-plugin.com//7.2.3.1//EN
TZID:Europe/Paris
X-WR-TIMEZONE:Europe/Paris
BEGIN:VEVENT
UID:1838@cafeculturelcitoyen.org
DTSTART;TZID=Europe/Paris:20220924T203000
DTEND;TZID=Europe/Paris:20220924T220000
DTSTAMP:20220903T092332Z
URL:https://cafeculturelcitoyen.org/evenements/les-samedis-du-3c-vincent-f
 eret-en-concert/
SUMMARY:Les Samedis du 3C - Vincent Feret en concert
DESCRIPTION:"De la chanson française\, un brin de sensibilité et de poés
 ie".\n\nAccompagné de sa guitare depuis plusieurs années\, auteur de deu
 x disques\, Vincent Féret écrit avec tendresse\, et humour et viendra no
 us régaler au café- c'est la deuxième fois qu'il vient.\n\nSoyons nombr
 eux-nombreuses à l’accueillir
ATTACH;FMTTYPE=image/jpeg:https://cafeculturelcitoyen.org/wp-content/uploa
 ds/2022/09/Capture-decran-2022-09-03-111451.jpg
END:VEVENT
BEGIN:VTIMEZONE
TZID:Europe/Paris
X-LIC-LOCATION:Europe/Paris
BEGIN:DAYLIGHT
DTSTART:20220327T030000
TZOFFSETFROM:+0100
TZOFFSETTO:+0200
TZNAME:CEST
END:DAYLIGHT
END:VTIMEZONE
END:VCALENDAR