BEGIN:VCALENDAR
VERSION:2.0
PRODID:-//wp-events-plugin.com//7.2.3.1//EN
TZID:Europe/Paris
X-WR-TIMEZONE:Europe/Paris
BEGIN:VEVENT
UID:2344@cafeculturelcitoyen.org
DTSTART;TZID=Europe/Paris:20230916T190000
DTEND;TZID=Europe/Paris:20230916T220000
DTSTAMP:20230810T144528Z
URL:https://cafeculturelcitoyen.org/evenements/les-samedis-du-3c-vernissag
 e-et-soiree-ludique-musicale/
SUMMARY:Les samedis du 3C - Vernissage et soirée ludique-musicale
DESCRIPTION:Valentin et Ostande exposent leurs travaux au 3C en septembre 2
 023.\n\nIels organisent une soirée de vernissage le vendredi 16 septembre
  avec concours de pâtisseries\, jeu des sept familles et DJ set assuré p
 ar Les Noctambulles et Max la menace.\nVenez nombreux.ses ! 
ATTACH;FMTTYPE=image/jpeg:https://cafeculturelcitoyen.org/wp-content/uploa
 ds/2023/08/Capture-decran-2023-08-10-164500.jpg
END:VEVENT
BEGIN:VTIMEZONE
TZID:Europe/Paris
X-LIC-LOCATION:Europe/Paris
BEGIN:DAYLIGHT
DTSTART:20230326T030000
TZOFFSETFROM:+0100
TZOFFSETTO:+0200
TZNAME:CEST
END:DAYLIGHT
END:VTIMEZONE
END:VCALENDAR