BEGIN:VCALENDAR
VERSION:2.0
PRODID:-//wp-events-plugin.com//7.2.3.1//EN
TZID:Europe/Paris
X-WR-TIMEZONE:Europe/Paris
BEGIN:VEVENT
UID:2354@cafeculturelcitoyen.org
DTSTART;TZID=Europe/Paris:20230922T203000
DTEND;TZID=Europe/Paris:20230922T220000
DTSTAMP:20230816T170142Z
URL:https://cafeculturelcitoyen.org/evenements/les-samedis-du-3c-triple-ac
 croche-2/
SUMMARY:Les Samedis du 3C : Triple accroche
DESCRIPTION:Nous sommes un trio contrebasse/guitare-chant/percussions\, tou
 s les trois stagiaires à l'IMFP de Salon-de-Provence où nous nous sommes
  rencontrés. Notre musique est donc bien imprégnée de jazz\, et découl
 e du mélange de nos influences diverses.\nChanson française\, standards 
 Etats-uniens\, blues\, folk\, rock\, swing manouche\, world music\, reggae
  sont les couleurs qui teintent notre set de compositions originales et re
 prises variées\, allant de Brassens à Ben Harper\, en passant par Anis\,
  Skinshape\, Bob Dylan\, Mac Demarco...\n \nNotre recherche d'équilibre 
 entre la puissance des textes\, l'improvisation et l'esthétique harmoniqu
 e se veut d'aboutir en arrangements épurés\, poétiques et originaux\, p
 our retranscrire\, en somme\, la douce mélodie des choses !\n\n"Une fois 
 qu'il a formulé quelque chose plus parfaitement\, l'artiste n'a pourtant 
 fait que ménager de la place pour cette grandeur qui jamais ne se laisse 
 contraindre ou conquérir\, à moins qu'elle ne se donne ..."      Rain
 er Maria Rilke \n\n\nhttps://m.youtube.com/watch?v=miYY0Z7x4P8\nhttps://m
 .youtube.com/watch?v=xNTP3pHKxHE\n
ATTACH;FMTTYPE=image/jpeg:https://cafeculturelcitoyen.org/wp-content/uploa
 ds/2023/05/Capture-decran-2023-05-02-141757.jpg
END:VEVENT
BEGIN:VTIMEZONE
TZID:Europe/Paris
X-LIC-LOCATION:Europe/Paris
BEGIN:DAYLIGHT
DTSTART:20230326T030000
TZOFFSETFROM:+0100
TZOFFSETTO:+0200
TZNAME:CEST
END:DAYLIGHT
END:VTIMEZONE
END:VCALENDAR