BEGIN:VCALENDAR
VERSION:2.0
PRODID:-//wp-events-plugin.com//7.2.3.1//EN
TZID:Europe/Paris
X-WR-TIMEZONE:Europe/Paris
BEGIN:VEVENT
UID:2233@cafeculturelcitoyen.org
DTSTART;TZID=Europe/Paris:20230304T203000
DTEND;TZID=Europe/Paris:20230304T220000
DTSTAMP:20230303T144601Z
URL:https://cafeculturelcitoyen.org/evenements/les-samedis-du-3c-tajito-ra
 p-argentin/
SUMMARY:Les samedis du 3C-  Tajito - rap argentin
DESCRIPTION:Tajito est un rappeur d’origine argentine\, qui recherche un 
 équilibre dans le monde. Il parle de l’existence et du destin.\nSes par
 oles ramènent au présent de façon aussi épique que tragique.\nL’inju
 stice\, la violence et l’amour sont les situations et émotions qui le t
 ouchent et inspirent chaque jour dans sa musique.\nIl se met en scène inc
 arnant un personnage autant clownesque que subtil\, naturel et extravagant
 .
ATTACH;FMTTYPE=image/jpeg:https://cafeculturelcitoyen.org/wp-content/uploa
 ds/2023/03/Capture-decran-2023-03-03-154505.jpg
END:VEVENT
BEGIN:VTIMEZONE
TZID:Europe/Paris
X-LIC-LOCATION:Europe/Paris
BEGIN:STANDARD
DTSTART:20221030T020000
TZOFFSETFROM:+0200
TZOFFSETTO:+0100
TZNAME:CET
END:STANDARD
END:VTIMEZONE
END:VCALENDAR